BEGIN:VCALENDAR
VERSION:2.0
PRODID:-//wp-events-plugin.com//7.2.3.1//EN
TZID:Europe/Berlin
X-WR-TIMEZONE:Europe/Berlin
BEGIN:VEVENT
UID:101@hiig.de
DTSTART;TZID=Europe/Berlin:20140611T110000
DTEND;TZID=Europe/Berlin:20140611T220000
DTSTAMP:20180906T083824Z
URL:https://www.hiig.de/events/hiig-factory-opening-2/
SUMMARY:HIIG bei der Factory Eröffnung
DESCRIPTION:[gallery link="file" columns="1" ids="18018\,18019\,18020\,1802
 1"]\nImpressionen von der Eröffnung\nAm 11. Juni öffnet die Factory\, Ca
 mpus für Gründer und Erfinder\, ihre Türen. Das Humboldt Institut für 
 Internet und Gesellschaft wird auf der Startup Messe der Factory einen Mar
 ktstand haben\, an dem sich Interessierte für die Startup Clinics des Ins
 tituts anmelden und sich in kurzen Live-Sessions von den Doktoranden des I
 nstituts beraten lassen können. Die Live-Sessions finden von 12.00 – 18
 .00 Uhr in den Bereichen Law\, HR/Management\, Sales und Business Model In
 novation statt. Interessierte Startups können sich in den ausliegenden Li
 sten für einen Time-Slot eintragen. Darüber hinaus können Sie sich von 
 11.00 – 22.00 Uhr am HIIG-Marktstand über unsere Forschung informieren.
 \n\nAb 19.50 Uhr ist Direktorin Jeanette Hofmann Gast in der Diskussionsru
 nde "Mapping the digital future: Internet &amp\; Entrepreneurship 2
 020 – How to support responsible and transformative entrepreneurshi
 p?". Sie wird mit Ijad Madisch (Researchgate)\, Fadi Chehade (CEO ICA
 NN) und Henning Kagermann (President of acatech) diskutieren.
ATTACH;FMTTYPE=image/jpeg:https://www.hiig.de/wp-content/uploads/2014/06/f
 actory_opening.png
CATEGORIES:Netzwerken
LOCATION:Factory\, Rheinsberger Str. 76/77\, Berlin\, 10115\, Deutschland
X-APPLE-STRUCTURED-LOCATION;VALUE=URI;X-ADDRESS=Rheinsberger Str. 76/77\, B
 erlin\, 10115\, Deutschland;X-APPLE-RADIUS=100;X-TITLE=Factory:geo:0,0
END:VEVENT
BEGIN:VTIMEZONE
TZID:Europe/Berlin
X-LIC-LOCATION:Europe/Berlin
BEGIN:DAYLIGHT
DTSTART:20140330T030000
TZOFFSETFROM:+0100
TZOFFSETTO:+0200
TZNAME:CEST
END:DAYLIGHT
END:VTIMEZONE
END:VCALENDAR