BEGIN:VCALENDAR
VERSION:2.0
PRODID:-//wp-events-plugin.com//7.2.3.1//EN
TZID:Europe/Berlin
X-WR-TIMEZONE:Europe/Berlin
BEGIN:VEVENT
UID:1068@hiig.de
DTSTART;TZID=Europe/Berlin:20230203T143000
DTEND;TZID=Europe/Berlin:20230203T180000
DTSTAMP:20230127T122403Z
URL:https://www.hiig.de/events/hackathon-i-kuenstliches-denken-menschlich-
 erklaert/
SUMMARY:Hackathon I Entwicklung von KI-Erklärungsmodellen
DESCRIPTION:Innerhalb dieses Hackathons befassen wir uns mit der Konzipieru
 ng von zwei Erklärungsmodellen von KI. 
ATTACH;FMTTYPE=image/jpeg:https://www.hiig.de/wp-content/uploads/2023/01/E
 ventseiten-Banner-–-Hackathon-03.02.23-–-6.png
LOCATION:Humboldt Institut für Internet und Gesellschaft\, Französische S
 traße 9\, Berlin\, 10117\, Deutschland
X-APPLE-STRUCTURED-LOCATION;VALUE=URI;X-ADDRESS=Französische Straße 9\, B
 erlin\, 10117\, Deutschland;X-APPLE-RADIUS=100;X-TITLE=Humboldt Institut f
 ür Internet und Gesellschaft:geo:0,0
END:VEVENT
BEGIN:VTIMEZONE
TZID:Europe/Berlin
X-LIC-LOCATION:Europe/Berlin
BEGIN:STANDARD
DTSTART:20221030T020000
TZOFFSETFROM:+0200
TZOFFSETTO:+0100
TZNAME:CET
END:STANDARD
END:VTIMEZONE
END:VCALENDAR