BEGIN:VCALENDAR
VERSION:2.0
PRODID:-//wp-events-plugin.com//7.2.3.1//EN
TZID:Europe/Berlin
X-WR-TIMEZONE:Europe/Berlin
BEGIN:VEVENT
UID:1388@hiig.de
DTSTART;TZID=Europe/Berlin:20250403T090000
DTEND;TZID=Europe/Berlin:20250403T130000
DTSTAMP:20250805T140319Z
URL:https://www.hiig.de/events/girls-day-die-wissenschaft-in-maedchenhaend
 en-3/
SUMMARY:Girls’ Day: Die Wissenschaft in Mädchenhänden
DESCRIPTION:Wir laden zum diesjährigen Girls’ Day an das HIIG ein\, um e
 inen Einblick in die Arbeit eines Forschungsinstituts zu erhalten.
ATTACH;FMTTYPE=image/jpeg:https://www.hiig.de/wp-content/uploads/2025/01/G
 irls-Day-HIIG.png
LOCATION:Humboldt Institut für Internet und Gesellschaft\, Französische S
 traße 9\, Berlin\, 10117\, Deutschland
X-APPLE-STRUCTURED-LOCATION;VALUE=URI;X-ADDRESS=Französische Straße 9\, B
 erlin\, 10117\, Deutschland;X-APPLE-RADIUS=100;X-TITLE=Humboldt Institut f
 ür Internet und Gesellschaft:geo:0,0
END:VEVENT
BEGIN:VTIMEZONE
TZID:Europe/Berlin
X-LIC-LOCATION:Europe/Berlin
BEGIN:DAYLIGHT
DTSTART:20250330T030000
TZOFFSETFROM:+0100
TZOFFSETTO:+0200
TZNAME:CEST
END:DAYLIGHT
END:VTIMEZONE
END:VCALENDAR