BEGIN:VCALENDAR
VERSION:2.0
PRODID:-//wp-events-plugin.com//7.2.3.1//EN
TZID:Europe/Berlin
X-WR-TIMEZONE:Europe/Berlin
BEGIN:VEVENT
UID:156@hiig.de
DTSTART;TZID=Europe/Berlin;VALUE=DATE:20150318
DTEND;TZID=Europe/Berlin;VALUE=DATE:20150321
DTSTAMP:20231220T105734Z
URL:https://www.hiig.de/events/general-online-research-conference-2015/
SUMMARY:General Online Research Konferenz 2015
DESCRIPTION:Das Humboldt Institut für Internet und Gesellschaft ist Progra
 mmpartner der jährlichen General Online Research Conference 2015 (GOR15)\
 , die von der Deutschen Gesellschaft für Online-Forschung e.V. (DGOF) ver
 anstaltet wird\, und gestaltet den Track B zum Thema "Internet and Societ
 y". Im Folgenden finden Sie weitere\, englischsprachige Informationen zur 
 Veranstaltung\nGermany’s most influential online research conference\nTh
 e General Online Research Conference is annually organized by the Germa
 n Society for Online Research with a local partner. In 2015 the GOR confer
 ence will take place in Cologne with the Cologne University of Applied Sc
 iences being the local organizer.\n\nJoin us from 18 to 20 March 2014 in 
 Cologne for a friendly\, valuable and inspiring event which is a must for 
 everyone involved in online research: the 17th General Online Research Con
 ference! Meet like-minded people and get to know the latest trends in onli
 ne research.\nVeranstalter und Partner\nDie Konferenz wird von der Deutsc
 hen Gesellschaft für Online-Forschung e.V. (DGOF) in Kooperation mit der 
 Fachhochschule Köln veranstaltet. Das Online-Portal Marktforschung.de und
  das Humboldt Institut für Internet und Gesellschaft sind Programmpartner
  der Konferenz.\nCall for Papers\nDen Call for Papers (englisch) finden Si
 e hier.
CATEGORIES:Themen im Fokus
LOCATION:Fachhochschule Köln | Campus Südstadt\, Claudiusstraße 1\, Köl
 n\, 50678\, Deutschland
X-APPLE-STRUCTURED-LOCATION;VALUE=URI;X-ADDRESS=Claudiusstraße 1\, Köln\,
  50678\, Deutschland;X-APPLE-RADIUS=100;X-TITLE=Fachhochschule Köln | Cam
 pus Südstadt:geo:0,0
END:VEVENT
BEGIN:VTIMEZONE
TZID:Europe/Berlin
X-LIC-LOCATION:Europe/Berlin
BEGIN:STANDARD
DTSTART:20141026T020000
TZOFFSETFROM:+0200
TZOFFSETTO:+0100
TZNAME:CET
END:STANDARD
END:VTIMEZONE
END:VCALENDAR