BEGIN:VCALENDAR
VERSION:2.0
PRODID:-//wp-events-plugin.com//7.2.3.1//EN
TZID:Europe/Berlin
X-WR-TIMEZONE:Europe/Berlin
BEGIN:VEVENT
UID:1326@hiig.de
DTSTART;TZID=Europe/Berlin:20241017T100000
DTEND;TZID=Europe/Berlin:20241017T130000
DTSTAMP:20241016T133617Z
URL:https://www.hiig.de/events/gemeinsam-finanzieren-gemeinsam-profitieren
 -diamond-open-access-nachhaltig-gestalten/
SUMMARY:Gemeinsam finanzieren\, gemeinsam profitieren: Diamond Open Access 
 nachhaltig gestalten
DESCRIPTION:In diesem Multi-Stakeholder-Workshop wird es um die gemeinschaf
 tliche Finanzierung von Diamond Open Access Publikationen gehen.
ATTACH;FMTTYPE=image/jpeg:https://www.hiig.de/wp-content/uploads/2024/08/p
 exels-tima-miroshnichenko-6508563-scaled.jpg
LOCATION:Online\, HIIG\, Berlin\, Deutschland
X-APPLE-STRUCTURED-LOCATION;VALUE=URI;X-ADDRESS=HIIG\, Berlin\, Deutschland
 ;X-APPLE-RADIUS=100;X-TITLE=Online:geo:0,0
END:VEVENT
BEGIN:VTIMEZONE
TZID:Europe/Berlin
X-LIC-LOCATION:Europe/Berlin
BEGIN:DAYLIGHT
DTSTART:20240331T030000
TZOFFSETFROM:+0100
TZOFFSETTO:+0200
TZNAME:CEST
END:DAYLIGHT
END:VTIMEZONE
END:VCALENDAR