BEGIN:VCALENDAR
VERSION:2.0
PRODID:-//wp-events-plugin.com//7.2.3.1//EN
TZID:Europe/Berlin
X-WR-TIMEZONE:Europe/Berlin
BEGIN:VEVENT
UID:62@hiig.de
DTSTART;TZID=Europe/Berlin:20131205T090000
DTEND;TZID=Europe/Berlin:20131206T180000
DTSTAMP:20190401T121510Z
URL:https://www.hiig.de/events/formate-reformieren/
SUMMARY:Workshop: Formate reformieren
DESCRIPTION:Audiovisuelle Formate in konvergierenden Medien produzieren und
  schützen\nEin internationaler Workshop – Forschung trifft Praxis
ATTACH;FMTTYPE=image/jpeg:https://www.hiig.de/wp-content/uploads/2013/10/f
 ormats_4.png
CATEGORIES:Themen im Fokus
LOCATION:Kalkscheune\, Johannisstr. 2\, Berlin\, 10117 \, Deutschland
X-APPLE-STRUCTURED-LOCATION;VALUE=URI;X-ADDRESS=Johannisstr. 2\, Berlin\, 1
 0117 \, Deutschland;X-APPLE-RADIUS=100;X-TITLE=Kalkscheune:geo:0,0
END:VEVENT
BEGIN:VTIMEZONE
TZID:Europe/Berlin
X-LIC-LOCATION:Europe/Berlin
BEGIN:STANDARD
DTSTART:20131027T020000
TZOFFSETFROM:+0200
TZOFFSETTO:+0100
TZNAME:CET
END:STANDARD
END:VTIMEZONE
END:VCALENDAR