BEGIN:VCALENDAR
VERSION:2.0
PRODID:-//wp-events-plugin.com//7.2.3.1//EN
TZID:Europe/Berlin
X-WR-TIMEZONE:Europe/Berlin
BEGIN:VEVENT
UID:120@hiig.de
DTSTART;TZID=Europe/Berlin;VALUE=DATE:20120504
DTEND;TZID=Europe/Berlin;VALUE=DATE:20120505
DTSTAMP:20190220T095428Z
URL:https://www.hiig.de/events/fachtagung-zu-internet-gesellschaft/
SUMMARY:Fachtagung zu Internet & Gesellschaft
DESCRIPTION:\nGoogle\, Facebook\, Twitter u.a. – Segen oder Fluch?\nAm 04
 .05.2012 findet der Tag der Technikwissenschaften der Berlin-Brandenburgis
 chen Akademie der Wissenschaften zum Thema «Internet &amp\; Gesellschaft
 » statt. Im Rahmen der Fachtagung wird Prof. Dr. Thomas Schildhauer  ei
 nen Vortrag zum Thema «Veränderung der Gesellschafts- und Wirtschaftskom
 munikation durch das Internet» halten. Im Anschluss findet die Verleihun
 g des Technikwissenschaftlichen Preises der Berlin-Brandenburgischen Akade
 mie der Wissenschaften statt.\n\n\n\n Webseite besuchen\nOffizielle Websei
 te der Berlin-Brandenburgischen Akademie der Wissenschaften\n\n\n Webseite
  besuchen\nVeranstaltung\n\n\n\nDie Fachtagung beschäftigt sich unter And
 erem mit den Fragestellungen: Welche neuen Formen der Kommunikation und de
 r Partizipation bringen digitale Soziale Netzwerke und Soziale Medien mit 
 sich? Sind sie Spiegel oder Prägestempel der Gesellschaft? Können sie ga
 r als Grundlage und Zukunft moderner Demokratien betrachtet werden? Stehen
  wir vor einer neuen welle der Demokratisierung\, die vom Internet gepräg
 t und getrieben wird? welches sind die Chancen und Gefahren des internet-b
 asierten revolutionären Potentials (siehe z.B. die Rolle der sozialen Net
 zwerke im arabischen Frühling)? Gibt es eine Sehnsucht nach der digitalen
  Revolution?\n\nUm Anmeldung wird gebeten\n\nWeitere Informationen finden 
 Sie im Programm.\n\n\n\n PDF ansehen \nProgramm\n\n\n\n&nbsp\;\n\n
CATEGORIES:Themen im Fokus
LOCATION:Ehemalige Institutsräume des HIIG | Raum E27\, Bebelplatz 1\, Ber
 lin\, 10117\, Deutschland
X-APPLE-STRUCTURED-LOCATION;VALUE=URI;X-ADDRESS=Bebelplatz 1\, Berlin\, 101
 17\, Deutschland;X-APPLE-RADIUS=100;X-TITLE=Ehemalige Institutsräume des 
 HIIG | Raum E27:geo:0,0
END:VEVENT
BEGIN:VTIMEZONE
TZID:Europe/Berlin
X-LIC-LOCATION:Europe/Berlin
BEGIN:DAYLIGHT
DTSTART:20120325T030000
TZOFFSETFROM:+0100
TZOFFSETTO:+0200
TZNAME:CEST
END:DAYLIGHT
END:VTIMEZONE
END:VCALENDAR