BEGIN:VCALENDAR
VERSION:2.0
PRODID:-//wp-events-plugin.com//7.2.3.1//EN
TZID:Europe/Berlin
X-WR-TIMEZONE:Europe/Berlin
BEGIN:VEVENT
UID:519@hiig.de
DTSTART;TZID=Europe/Berlin:20180312T190000
DTEND;TZID=Europe/Berlin:20180312T220000
DTSTAMP:20241217T142542Z
URL:https://www.hiig.de/events/elena-esposito-digitale-gesellschaft/
SUMMARY:Elena Esposito: Zukunft und Ungewissheit in der digitalen Gesellsch
 aft
DESCRIPTION:Was bedeutet die Prognose durch Algorithmen und künstliche Int
 elligenz? Organisationen und Verwaltungen sammeln und speichern riesige Da
 tenmengen\, um Muster in der Gegenwart zu erkennen und erwartete Zukunftss
 zenarien zu generieren. Wie helfen Algorithmen und KI\, Unsicherheiten und
  unüberschaubarer Datenmengen zu bewältigen – und zu welchem Preis? Wa
 s können wir über diese technologischen Infrastrukturen unserer Gesellsc
 haft wissen? Wie verändert KI unser Verständnis und unsere Produktion vo
 n Wissen? Und wie beeinflussen algorithmische Prognosen unsere Beziehung z
 ur Zukunft?\n\nElena Esposito ist Professorin für Soziologie an der Unive
 rsität Bielefeld und an der Universität Modena und Reggio Emilia. Sie gi
 lt als eine der führenden Vertreterinnen der Systemtheorie. Esposito arbe
 itet an Themen\, die das soziale Management von Zeit umfassen\, darunter E
 rinnern und Vergessen\, Mode und Vergänglichkeit\, Wahrscheinlichkeitsrec
 hnung\, sowie Fiktion und Zeitanwendung in der Finanzwelt. Ihre aktuellen 
 Forschungsprojekte untersuchen Möglichkeiten und Formen des Vergessens im
  Internet\, eine Soziologie der Algorithmen und die Verbreitung von Rankin
 gs und Ratings im Informationsmanagement.\n\n\n\nUnter Ihren zahlreichen P
 ublikationen sind u.a. „The Future of Futures. Time and Money in Financi
 ng and Society”\, 2011 (Edgar Elgar Pub)\; „Die Verbindlichkeit des Vo
 rübergehenden. Paradoxien der Mode”\, 2004 (Suhrkamp)\; „Soziales Ver
 gessen. Formen und Medien des Gedächtnisses der Gesellschaft”\, 2002 (S
 uhrkamp).\n\n&nbsp\;\nMaking sense of the digital society\nDas Alexander v
 on Humboldt Institut für Internet und Gesellschaft (HIIG) und die Bundesz
 entrale für politische Bildung/bpb organisieren zum Thema „Making sense
  of the digital society“ gemeinsam eine akademische Redenreihe. Mit der 
 prominent besetzten Reihe soll eine europäische Perspektive auf den Trans
 formationsprozess entwickelt werden\, den unsere Gesellschaft gegenwärtig
  durchläuft. Die Vorlesungsreihe begann am 12. Dezember 2017 mit einer Er
 öffnungsrede von Manuel Castells\, Autor der einflussreichen „Informati
 on Age“-Trilogie und wurde von Christoph Neuberger im Januar 2018 weiter
 geführt. Weitere bestätigte RednerInnen sind Marion Fourcade (Soziologie
 professorin an der UC Berkeley) und José van Dijck\, Autorin des in Kürz
 e erscheinenden Buches „The Platform Society“ und Präsidentin der Roy
 al Netherlands Academy of Arts and Sciences.\n\n
ATTACH;FMTTYPE=image/jpeg:https://www.hiig.de/wp-content/uploads/2018/01/R
 edenreihe_FR1_03-Esposito-–-16zu9.png
CATEGORIES:Exploring Digital Spheres,Redenreihe: Making sense of digital
 society
END:VEVENT
BEGIN:VTIMEZONE
TZID:Europe/Berlin
X-LIC-LOCATION:Europe/Berlin
BEGIN:STANDARD
DTSTART:20171029T020000
TZOFFSETFROM:+0200
TZOFFSETTO:+0100
TZNAME:CET
END:STANDARD
END:VTIMEZONE
END:VCALENDAR