BEGIN:VCALENDAR
VERSION:2.0
PRODID:-//wp-events-plugin.com//7.2.3.1//EN
TZID:Europe/Berlin
X-WR-TIMEZONE:Europe/Berlin
BEGIN:VEVENT
UID:161@hiig.de
DTSTART;TZID=Europe/Berlin:20141118T100000
DTEND;TZID=Europe/Berlin:20141118T200000
DTSTAMP:20141117T164137Z
URL:https://www.hiig.de/events/dwerft-konferenz/
SUMMARY:dwerft KONFERENZ
DESCRIPTION: »dwerft - linked film &amp\; tv services« – Am 18. Novem
 ber 2014 stellt das Forschungsbündnis für neue Film- und Fernsehtechnolo
 gien auf Basis von IT seine Arbeit vor. Von 10.00 bis 20.00 Uhr wird die 
 dwerft KONFERENZ im fx.Center Babelsberg gezielt auf technische Herausfor
 derungen bei der Produktion\, Distribution und Archivierung audiovisueller
  Medien eingehen. Dabei stellen die fünf Verbundprojekte des Forschungsb
 ündnisses Lösungsansätze vor\, welche auf die von Praxisvertretern gesc
 hilderten Herausforderungen eingehen. Die Konferenz ist bereits Vorbote f
 ür die am 19. und 20. November stattfindende Innovationskonferenz CHANGIN
 G THE PICTURE am Standort Babelsberg sowie den HORIZON 2020 Elevator Pitc
 h- Digital Media Projects\, auf dem Sie am 19.11. ihre Projektidee vorste
 llen und europäische Kooperationspartner finden können.\nProgramm\n\n\n\
 n10:00\nBegrüßung durch Hans-Peter Hiepe (Bundesministerium für Bildung
  und Forschung)\n\n\n10:15\nKeynote Das veränderte Geschäft – Fakten &
 amp\; Herausforderungen durch Nutzungs- und Technologiewandel bei Film und
  Fernsehen – Peter Effenberg (transfer media)\n\n\n10:45\nTechnologische
  Herausforderungen in der Produktion – Mitarbeiter aus der Produktion
 spraxis und des dwerft-Verbundprojektes Production Services diskutieren un
 d zeigen Forschungsansätze der vernetzten Produktion.\n\n\n11:30\nTechnol
 ogische Herausforderungen in der Archivierung – Mitarbeiter aus der M
 edienarchivpraxis und des dwerft-Verbundprojektes Archive Services diskuti
 eren und zeigen Forschungsansätze für halbautomatische Befundung und Dig
 italisierung von Filmmaterial.\n\n\n12:15 – 14:00\nMittagspause &amp\; 
 Infostände – Die dwerft-Verbundprojekte stehen für Nachfragen der Te
 ilnehmer an Infoständen zur Verfügung.\n\n\n14:00\nTechnologische Heraus
 forderungen in der Distribution – Internationale Experten und Mitarbeit
 er des dwerft-Verbundprojektes Distribution Services diskutieren und zeige
 n neue Ansätze für Distribution und Monetarisierung von Medieninhalten\n
 \n\n14:45\nRechtliche Herausforderungen – Das dwerft-Verbundprojekt Rech
 te diskutiert Forschungsansätze für das automatisierte Datenmanagement 
 der Rechtsbeziehungen bei Herstellung und Verwertung von Bewegbild.\n\n\n1
 5:30\nVorstellung der Kerntechnologie Linked Production Data Cloud – Dr.
  Harald Sack (HPI)\n\n\n16:00 –17:00\nPause &amp\; Infostände – Die
  dwerft-Verbundprojekte stehen für Nachfragen der Teilnehmer an Infostän
 den zur Verfügung\n\n\n17:00\nPodiumsdiskussion: Industrialisierung vs. 
 Kreativität – wie weit geht Vernetzung bei Film und Fernsehen? – Mi
 t anschließendem Get Together\n\n\n\nAnmeldung\nDie verbindliche Anmeldun
 g für die dwerft KONFERENZ erfolgt bei Madeline Kreßler\, m.kressler@tr
 ansfermedia.de\, 0331-721 21 67. Die Konferenz ist kostenlos!
ATTACH;FMTTYPE=image/jpeg:https://www.hiig.de/wp-content/uploads/2014/09/d
 werft-einladung-web.jpg
CATEGORIES:Themen im Fokus
LOCATION:fx.Center Babelsberg\, August-Bebel-Straße 26\, Potsdam\, 14482\,
  Deutschland
X-APPLE-STRUCTURED-LOCATION;VALUE=URI;X-ADDRESS=August-Bebel-Straße 26\, P
 otsdam\, 14482\, Deutschland;X-APPLE-RADIUS=100;X-TITLE=fx.Center Babelsbe
 rg:geo:0,0
END:VEVENT
BEGIN:VTIMEZONE
TZID:Europe/Berlin
X-LIC-LOCATION:Europe/Berlin
BEGIN:STANDARD
DTSTART:20141026T020000
TZOFFSETFROM:+0200
TZOFFSETTO:+0100
TZNAME:CET
END:STANDARD
END:VTIMEZONE
END:VCALENDAR