BEGIN:VCALENDAR
VERSION:2.0
PRODID:-//wp-events-plugin.com//7.2.3.1//EN
TZID:Europe/Berlin
X-WR-TIMEZONE:Europe/Berlin
BEGIN:VEVENT
UID:1416@hiig.de
DTSTART;TZID=Europe/Berlin:20250414T150000
DTEND;TZID=Europe/Berlin:20250414T163000
DTSTAMP:20260126T133543Z
URL:https://www.hiig.de/events/dsa-research-network-zweites-treffen-des-ci
 rcle-of-friends/
SUMMARY:DSA Forschungsnetzwerk: Zweites Treffen des Circle of Friends
DESCRIPTION:Das Ziel dieser Expert*innenrunde ist es\, ein Netzwerk zu Them
 en rund um den Digital Services Act zu etablieren.
ATTACH;FMTTYPE=image/jpeg:https://www.hiig.de/wp-content/uploads/2025/03/D
 SA-second-meeting-Circle-of-Friends.png
END:VEVENT
BEGIN:VTIMEZONE
TZID:Europe/Berlin
X-LIC-LOCATION:Europe/Berlin
BEGIN:DAYLIGHT
DTSTART:20250330T030000
TZOFFSETFROM:+0100
TZOFFSETTO:+0200
TZNAME:CEST
END:DAYLIGHT
END:VTIMEZONE
END:VCALENDAR