BEGIN:VCALENDAR
VERSION:2.0
PRODID:-//wp-events-plugin.com//7.2.3.1//EN
TZID:Europe/Berlin
X-WR-TIMEZONE:Europe/Berlin
BEGIN:VEVENT
UID:1365@hiig.de
DTSTART;TZID=Europe/Berlin:20241107T150000
DTEND;TZID=Europe/Berlin:20241107T170000
DTSTAMP:20241106T081835Z
URL:https://www.hiig.de/events/dsa-research-network-kick-off-for-the-circl
 e-of-friends/
SUMMARY:DSA Research Network: Kick-Off for the Circle of Friends
DESCRIPTION:Bei diesem Expert*innen-Roundtable geht es um die Gründung ein
 es Netzwerks zu Themen rund um den Digital Services Act.
ATTACH;FMTTYPE=image/jpeg:https://www.hiig.de/wp-content/uploads/2024/11/W
 ebsite-DSA-Research-Network-kickoff_241107-–-1.png
LOCATION:Online\, HIIG\, Berlin\, Deutschland
X-APPLE-STRUCTURED-LOCATION;VALUE=URI;X-ADDRESS=HIIG\, Berlin\, Deutschland
 ;X-APPLE-RADIUS=100;X-TITLE=Online:geo:0,0
END:VEVENT
BEGIN:VTIMEZONE
TZID:Europe/Berlin
X-LIC-LOCATION:Europe/Berlin
BEGIN:STANDARD
DTSTART:20241027T020000
TZOFFSETFROM:+0200
TZOFFSETTO:+0100
TZNAME:CET
END:STANDARD
END:VTIMEZONE
END:VCALENDAR