BEGIN:VCALENDAR
VERSION:2.0
PRODID:-//wp-events-plugin.com//7.2.3.1//EN
TZID:Europe/Berlin
X-WR-TIMEZONE:Europe/Berlin
BEGIN:VEVENT
UID:870@hiig.de
DTSTART;TZID=Europe/Berlin:20201208T103000
DTEND;TZID=Europe/Berlin:20201208T150000
DTSTAMP:20210728T100044Z
URL:https://www.hiig.de/events/digitalisierungswerkstatt-dritter-engagemen
 tbericht/
SUMMARY:Digitalisierungswerkstatt - Fachveranstaltung zum Dritten Engagemen
 tbericht
DESCRIPTION:Die Veranstaltung richtet sich an Engagement-Organisationen und
  thematisiert Aspekte der digitalen organisationalen Arbeit.
ATTACH;FMTTYPE=image/jpeg:https://www.hiig.de/wp-content/uploads/2020/11/m
 arvin-meyer-SYTO3xs06fU-unsplash-scaled.jpg
CATEGORIES:Themen im Fokus
LOCATION:Livestream\, hiig.de\, Berlin\, Deutschland
X-APPLE-STRUCTURED-LOCATION;VALUE=URI;X-ADDRESS=hiig.de\, Berlin\, Deutschl
 and;X-APPLE-RADIUS=100;X-TITLE=Livestream:geo:0,0
END:VEVENT
BEGIN:VTIMEZONE
TZID:Europe/Berlin
X-LIC-LOCATION:Europe/Berlin
BEGIN:STANDARD
DTSTART:20201025T020000
TZOFFSETFROM:+0200
TZOFFSETTO:+0100
TZNAME:CET
END:STANDARD
END:VTIMEZONE
END:VCALENDAR