BEGIN:VCALENDAR
VERSION:2.0
PRODID:-//wp-events-plugin.com//7.2.3.1//EN
TZID:Europe/Berlin
X-WR-TIMEZONE:Europe/Berlin
BEGIN:VEVENT
UID:81@hiig.de
DTSTART;TZID=Europe/Berlin:20140528T190000
DTEND;TZID=Europe/Berlin:20140528T203000
DTSTAMP:20180914T083513Z
URL:https://www.hiig.de/events/digitaler-salon-wearables-fit-und-schlank-d
 ank-smartwatch/
SUMMARY:Digitaler Salon: Wearables. Fit und schlank dank Smartwatch
DESCRIPTION:Uhren\, Brillen &amp\; T-Shirts\, die Vernetzung unserer Kleidu
 ng scheint bevorzustehen. Sie sind Produkt von Fitnesswahn und Selbstdarst
 ellung – dem Selfie folgt die Pulskurve. Wie viel Vernetzung akzeptieren
  wir und wer profitiert vom Tracking-Trend?\n\n\n\nAm 28.05.2014 sprach K
 atja Weber von DRadio Wissen mit diesen Gästen:\n\n 	Johannes Kleske\, Ma
 cher des Quantified Self &amp\; Lifelogging Podcast I Grow Digital\n 	Dani
 ela Kuka\, Wissenschaftliche Mitarbeiterin an der Universität der Künste
  im Bereich verbale Kommunikation\n 	Enno Park\, Journalist und selbsterkl
 ärter Cyborg\n 	Karsten Weber\, Professor an der Brandenburgische Technis
 che Universität\, Kultur und Technik\n\nEine Einführung in die Thematik 
 gab Uta Meier-Hahn\, Doktorandin am HIIG im Bereich Internet Policy und G
 overnance.\n\n[gallery columns="1" link="none" ids="17770\,17771\,17782\,1
 7775\,17772\,17773\,17776\,17780\,17777\,17778\,17783\,17779"]\n\n\n\n Aud
 io Mitschnitt \nDRadio Wissen – Hörsaal am 13.07.2014\n\n\n\nEinmal mon
 atlich zum Digitalen Salon stellen sich unsere Gäste den ‚Fragen zur ve
 rnetzten Gegenwart‘. In unserer Diskussionsreihe beleuchten wir Netz-Ph
 änomene\, erörtern Vor- und Nachteile technischer Veränderungen und geb
 en Denkanstöße. Kommunizieren auch Sie Ihre Meinung vor\, während und n
 ach der Sendung direkt auf unserer Webseite\, über Social Media oder per 
 Postkarte. Der Digitale Salon ist eine Kooperation zwischen DRadio Wissen 
 und dem Humboldt Institut für Internet und Gesellschaft.\n\nAm letzten Mi
 ttwoch des Monats um 19:00 Uhr.\nAnalog: In den Räumen des HIIG • Bebel
 platz 1 • mit Wein &amp\; Brezeln • Einlass ab 18:30 Uhr\nDigital: #Di
 gSal • Livestream via www.dradiowissen.de und www.hiig.de\nRadio: In der
  Reihe NETZ.REPORTER\, einer Produktion der Kooperative Berlin auf DRadio 
 Wissen.
ATTACH;FMTTYPE=image/jpeg:https://www.hiig.de/wp-content/uploads/2012/08/d
 igsal1-e1536914094905.jpg
CATEGORIES:Digitaler Salon
LOCATION:Ehemalige Institutsräume des HIIG | Raum E27\, Bebelplatz 1\, Ber
 lin\, 10117\, Deutschland
X-APPLE-STRUCTURED-LOCATION;VALUE=URI;X-ADDRESS=Bebelplatz 1\, Berlin\, 101
 17\, Deutschland;X-APPLE-RADIUS=100;X-TITLE=Ehemalige Institutsräume des 
 HIIG | Raum E27:geo:0,0
END:VEVENT
BEGIN:VTIMEZONE
TZID:Europe/Berlin
X-LIC-LOCATION:Europe/Berlin
BEGIN:DAYLIGHT
DTSTART:20140330T030000
TZOFFSETFROM:+0100
TZOFFSETTO:+0200
TZNAME:CEST
END:DAYLIGHT
END:VTIMEZONE
END:VCALENDAR