BEGIN:VCALENDAR
VERSION:2.0
PRODID:-//wp-events-plugin.com//7.2.3.1//EN
TZID:Europe/Berlin
X-WR-TIMEZONE:Europe/Berlin
BEGIN:VEVENT
UID:262@hiig.de
DTSTART;TZID=Europe/Berlin:20150930T190000
DTEND;TZID=Europe/Berlin:20150930T203000
DTSTAMP:20231220T145716Z
URL:https://www.hiig.de/events/digitaler-salon-virtual-past/
SUMMARY:Digitaler Salon: Virtual Past
DESCRIPTION:\n\nDigitale Gedenkstätten und virtuelle Realitäten aus einem
  Jahrhundert. Erleben wir Geschichte neu dank digitaler Tools?\n\nDer Digi
 tale Salon reist dieses Mal in die Vergangenheit – auf digitalem Weg. W
 elche Möglichkeiten und Herausforderungen sich hinter dem Begriff Virtua
 l Past verstecken\, diskutieren wir mit vier GesprächspartnerInnen\, die 
 sich mit der Digitalisierung von Geschichte beschäftigen.\nTechnik und di
 gitale Vernetzung bieten neue Möglichkeiten für Forschung\, Museen und d
 as Erzählen von Lebensgeschichten. Inwiefern erleben wir Geschichte neu d
 ank digitaler Tools? Was geht dabei vielleicht verloren? Welche Aspekte de
 r Erinnerung werden anders dargestellt und aufgearbeitet? Wie können Ge
 schichtsinteressierte sie nutzen?\nDie Herausforderungen und die Vorteile 
 einer Erzählung am Ort des Geschehens und ob Augmented Reality Sachverha
 lte vereinfachen kann\, wollen wir mit Ihnen hinterfragen.\n\nVirtual Past
 . 30.09.2015 | 19.00 Uhr Jacob-und-Wilhelm-Grimm-Zentrum | Auditorium 
 | Geschwister-Scholl-Straße 3 | Berlin\nKatja Weber von DRadio Wissen 
 diskutiert am 30. September mit:\n\n\n 	Felix Schäfer\, Deutsches Arch
 äologisches Institut\n 	Juna Grossmann\, irgendwiejuedisch.com\n 	Robin
  Hardenberg\, Timetraveler augmented\n 	Arnulf Scriba\, Deutsches Histo
 risches Museum\n\nEine Einführung in das Thema gibt Nancy Richter\, For
 scherin und Projektleiterin im Bereich Innovation und Entrepreneurship a
 m Alexander von Humboldt Institut für Internet und Gesellschaft.\nTweets 
 about #DigSal\n\n[photospace ids="25713\,25714\,25715\,25716\,25717\,25718
 \,25719"]\n\nDer Digitale Salon öffnet ab 18:30 Uhr seine Türen. Ab 19:0
 0 Uhr wird die Sendung live auf hiig.de übertragen. Dann heißt es mitm
 achen – vor Ort und per Twitter via #DigSal.\n\nDer Digitale Salon find
 et jeden letzten Mittwoch im Monat unter einer anderen Fragestellung statt
 . Aufzeichnungen vergangener Digitaler Salons und mehr Informationen finde
 n Sie unter www.hiig.de/DigSal.\n\n
CATEGORIES:Digitaler Salon,Events vor 2018 ohne Titelbild
LOCATION:Jacob-und-Wilhelm-Grimm-Zentrum der Humboldt-Universität zu Berli
 n\, Auditorium\, Geschwister-Scholl-Str. 3\, Berlin\, 10117\, Deutschland
X-APPLE-STRUCTURED-LOCATION;VALUE=URI;X-ADDRESS=Geschwister-Scholl-Str. 3\,
  Berlin\, 10117\, Deutschland;X-APPLE-RADIUS=100;X-TITLE=Jacob-und-Wilhelm
 -Grimm-Zentrum der Humboldt-Universität zu Berlin\, Auditorium:geo:0,0
END:VEVENT
BEGIN:VTIMEZONE
TZID:Europe/Berlin
X-LIC-LOCATION:Europe/Berlin
BEGIN:DAYLIGHT
DTSTART:20150329T030000
TZOFFSETFROM:+0100
TZOFFSETTO:+0200
TZNAME:CEST
END:DAYLIGHT
END:VTIMEZONE
END:VCALENDAR