BEGIN:VCALENDAR
VERSION:2.0
PRODID:-//wp-events-plugin.com//7.2.3.1//EN
TZID:Europe/Berlin
X-WR-TIMEZONE:Europe/Berlin
BEGIN:VEVENT
UID:856@hiig.de
DTSTART;TZID=Europe/Berlin:20201028T190000
DTEND;TZID=Europe/Berlin:20201028T200000
DTSTAMP:20201207T112031Z
URL:https://www.hiig.de/events/digitaler-salon-swipe-for-president/
SUMMARY:Digitaler Salon: Swipe for President
DESCRIPTION:Papier\, Briefmarke\, Wahlurne – das hört sich im digitalen 
 Zeitalter nach Relikten an. Was sind Vor- beziehungsweise Nachteile von E-
 Voting?\n
ATTACH;FMTTYPE=image/jpeg:https://www.hiig.de/wp-content/uploads/2020/09/s
 wipe-for-president_website-1.jpg
CATEGORIES:Digitaler Salon
LOCATION:Livestream\, hiig.de\, Berlin\, Deutschland
X-APPLE-STRUCTURED-LOCATION;VALUE=URI;X-ADDRESS=hiig.de\, Berlin\, Deutschl
 and;X-APPLE-RADIUS=100;X-TITLE=Livestream:geo:0,0
END:VEVENT
BEGIN:VTIMEZONE
TZID:Europe/Berlin
X-LIC-LOCATION:Europe/Berlin
BEGIN:STANDARD
DTSTART:20201025T020000
TZOFFSETFROM:+0200
TZOFFSETTO:+0100
TZNAME:CET
END:STANDARD
END:VTIMEZONE
END:VCALENDAR