BEGIN:VCALENDAR
VERSION:2.0
PRODID:-//wp-events-plugin.com//7.2.3.1//EN
TZID:Europe/Berlin
X-WR-TIMEZONE:Europe/Berlin
BEGIN:VEVENT
UID:866@hiig.de
DTSTART;TZID=Europe/Berlin:20201125T190000
DTEND;TZID=Europe/Berlin:20201125T200000
DTSTAMP:20201207T114117Z
URL:https://www.hiig.de/events/digitaler-salon-steckt-eine-app-in-happines
 s/
SUMMARY:Digitaler Salon: Steckt eine "App" in happiness?
DESCRIPTION:Welchen Einfluss hat die Digitalisierung auf unsere mentale Ges
 undheit? Wie steht es bei den Mental-E-Health Angeboten um das Thema Daten
 schutz?
ATTACH;FMTTYPE=image/jpeg:https://www.hiig.de/wp-content/uploads/2020/11/1
 120_digitaler-salon_website.jpg
CATEGORIES:Digitaler Salon
LOCATION:Livestream\, hiig.de\, Berlin\, Deutschland
X-APPLE-STRUCTURED-LOCATION;VALUE=URI;X-ADDRESS=hiig.de\, Berlin\, Deutschl
 and;X-APPLE-RADIUS=100;X-TITLE=Livestream:geo:0,0
END:VEVENT
BEGIN:VTIMEZONE
TZID:Europe/Berlin
X-LIC-LOCATION:Europe/Berlin
BEGIN:STANDARD
DTSTART:20201025T020000
TZOFFSETFROM:+0200
TZOFFSETTO:+0100
TZNAME:CET
END:STANDARD
END:VTIMEZONE
END:VCALENDAR