BEGIN:VCALENDAR
VERSION:2.0
PRODID:-//wp-events-plugin.com//7.2.3.1//EN
TZID:Europe/Berlin
X-WR-TIMEZONE:Europe/Berlin
BEGIN:VEVENT
UID:613@hiig.de
DTSTART;TZID=Europe/Berlin:20180926T190000
DTEND;TZID=Europe/Berlin:20180926T203000
DTSTAMP:20181009T085223Z
URL:https://www.hiig.de/events/digitaler-salon-spezial-gewissensbytes/
SUMMARY:Digitaler Salon Spezial: Gewissensbytes
DESCRIPTION:Gewissensbytes – Für Ethik gibt es noch keinen Algorithmus.
  Wie viel Macht haben InformatikerInnen und wie können die ethischen Leit
 linien mit der informatischen Praxis in Einklang gebracht werden?\n\n\n\nA
 lgorithmen verstecken sich in fast allen Bereichen unseres Lebens. Sie bes
 timmen\, wessen Instagram-Posts wir sehen\, wie unsere Kreditwürdigkeit e
 ingestuft wird oder welche Route das selbstfahrende Auto nehmen wird. Kurz
  gesagt: Algorithmen bestimmen die Regeln der digitalen Gesellschaft – u
 nd mit großer Macht kommt große Verantwortung. Können Algorithmen über
 haupt neutral sein? Was ist die Rolle der InformatikerInnen? Diskriminiert
  eine Software bestimmte Gruppen\, wird Überwachung dadurch einfacher und
  was sind die langfristigen Auswirkungen – oft werden InformatikerInnen 
 mit ethischen Problemen allein gelassen. Wie können ethische Leitlinien m
 it der informatischen Praxis in Einklang gebracht werden? Verhindert zu vi
 el Regulierung im Informationszeitalter echte Innovation – oder ist sie 
 der einzig effektive Schutz für Menschenrechte?\nDigitaler Salon Spezial 
 – Gewissensbytes\n26.09.2018 | 19.00 Uhr | Fraunhofer Forum im Spreepala
 is am Dom\nSaal Spektrum | Anna-Louisa-Karsch-Str. 2 | 10178 Berlin\n[phot
 ospace ids="53114\,53120\,53116\,53122\,53118\,53124"]\n\nIm Rahmen der IN
 FORMATIK 2018 diskutierte die Moderatorin Katja Weber mit:\n\n 	Lorena Ja
 ume-Palasí\, Mitgründerin und Geschäftsführerin\, AlgorithmWatch\n 	Fi
 ona Krakenbürger\, Techniksoziologin mit Genderfokus\, Heart of Code\n 	S
 tefan Ullrich\, kritischer Informatiker und Philosoph\, Gesellschaft für 
 Informatik\n\nDie Einführung in das Thema übernahm Theresa Züger\, ass
 oziierte Forscherin im Projekt „Die Entwicklung der digitalen Gesellscha
 ft“ am HIIG.\n\nDer Digitale Salon öffnet ab 18:30 Uhr seine Türen. Ab
  19:00 Uhr wird die Sendung live auf hiig.de übertragen. Dann heißt es m
 itmachen – vor Ort und per Twitter via #DigSal. Der Digitale Salon finde
 t jeden letzten Mittwoch im Monat unter einer anderen Fragestellung statt.
  Aufzeichnungen vergangener Digitaler Salons und mehr Informationen finden
  Sie hier.\n\nFür den Digitalen Salon ist keine Registrierung erforderlic
 h. Dieses Mal fand der Digitale Salon ausnahmsweise im Spreepalais zur 
 INFORMATIK 2018 statt.\n\n
ATTACH;FMTTYPE=image/jpeg:https://www.hiig.de/wp-content/uploads/2018/08/g
 ewissensbytes_final_16x9.png
CATEGORIES:Digitaler Salon
LOCATION:Spreepalais am Dom - Saal Spektrum\, Anna-Louisa-Karsch-Str. 2\, B
 erlin\, 10178\, Berlin\, Deutschland
X-APPLE-STRUCTURED-LOCATION;VALUE=URI;X-ADDRESS=Anna-Louisa-Karsch-Str. 2\,
  Berlin\, 10178\, Berlin\, Deutschland;X-APPLE-RADIUS=100;X-TITLE=Spreepal
 ais am Dom - Saal Spektrum:geo:0,0
END:VEVENT
BEGIN:VTIMEZONE
TZID:Europe/Berlin
X-LIC-LOCATION:Europe/Berlin
BEGIN:DAYLIGHT
DTSTART:20180325T030000
TZOFFSETFROM:+0100
TZOFFSETTO:+0200
TZNAME:CEST
END:DAYLIGHT
END:VTIMEZONE
END:VCALENDAR