BEGIN:VCALENDAR
VERSION:2.0
PRODID:-//wp-events-plugin.com//7.2.3.1//EN
TZID:Europe/Berlin
X-WR-TIMEZONE:Europe/Berlin
BEGIN:VEVENT
UID:370@hiig.de
DTSTART;TZID=Europe/Berlin:20161026T190000
DTEND;TZID=Europe/Berlin:20161026T203000
DTSTAMP:20231220T110959Z
URL:https://www.hiig.de/events/digitaler-salon-schutz-der-pubertiere/
SUMMARY:Digitaler Salon: Schutz der Pubertiere
DESCRIPTION:Schutz der Pubertiere. Zwischen Zensur und ungebremster Neugier
 . Wie selbstbestimmt sind Jugendliche online unterwegs und wer reguliert h
 ier eigentlich wen? Am 26.10.2016 um 19.00 Uhr im HIIG. Der Digitale Salon
  findet jeden letzten Mittwoch im Monat statt.
ATTACH;FMTTYPE=image/jpeg:https://www.hiig.de/wp-content/uploads/2016/10/j
 ugendschutz.png
CATEGORIES:Digitaler Salon,Events vor 2018 ohne Titelbild
LOCATION:Humboldt Institut für Internet und Gesellschaft\, Französische S
 traße 9\, Berlin\, 10117\, Deutschland
X-APPLE-STRUCTURED-LOCATION;VALUE=URI;X-ADDRESS=Französische Straße 9\, B
 erlin\, 10117\, Deutschland;X-APPLE-RADIUS=100;X-TITLE=Humboldt Institut f
 ür Internet und Gesellschaft:geo:0,0
END:VEVENT
BEGIN:VTIMEZONE
TZID:Europe/Berlin
X-LIC-LOCATION:Europe/Berlin
BEGIN:DAYLIGHT
DTSTART:20160327T030000
TZOFFSETFROM:+0100
TZOFFSETTO:+0200
TZNAME:CEST
END:DAYLIGHT
END:VTIMEZONE
END:VCALENDAR