BEGIN:VCALENDAR
VERSION:2.0
PRODID:-//wp-events-plugin.com//7.2.3.1//EN
TZID:Europe/Berlin
X-WR-TIMEZONE:Europe/Berlin
BEGIN:VEVENT
UID:889@hiig.de
DTSTART;TZID=Europe/Berlin:20210224T190000
DTEND;TZID=Europe/Berlin:20210224T200000
DTSTAMP:20210310T122058Z
URL:https://www.hiig.de/events/digitaler-salon-schulicon-valley/
SUMMARY:Digitaler Salon: Schulicon Valley
DESCRIPTION:Wie sieht sie aus\, die Schule der Zukunft? Welche digitalen We
 rkzeuge funktionieren gut und wo liegen die Schwierigkeiten?
ATTACH;FMTTYPE=image/jpeg:https://www.hiig.de/wp-content/uploads/2021/01/d
 igitaler-salon_schule-2.jpg
CATEGORIES:Digitaler Salon
LOCATION:Livestream\, hiig.de\, Berlin\, Deutschland
X-APPLE-STRUCTURED-LOCATION;VALUE=URI;X-ADDRESS=hiig.de\, Berlin\, Deutschl
 and;X-APPLE-RADIUS=100;X-TITLE=Livestream:geo:0,0
END:VEVENT
BEGIN:VTIMEZONE
TZID:Europe/Berlin
X-LIC-LOCATION:Europe/Berlin
BEGIN:STANDARD
DTSTART:20201025T020000
TZOFFSETFROM:+0200
TZOFFSETTO:+0100
TZNAME:CET
END:STANDARD
END:VTIMEZONE
END:VCALENDAR