BEGIN:VCALENDAR
VERSION:2.0
PRODID:-//wp-events-plugin.com//7.2.3.1//EN
TZID:Europe/Berlin
X-WR-TIMEZONE:Europe/Berlin
BEGIN:VEVENT
UID:22@hiig.de
DTSTART;TZID=Europe/Berlin:20130327T183000
DTEND;TZID=Europe/Berlin:20130327T220000
DTSTAMP:20190417T083708Z
URL:https://www.hiig.de/events/digitaler-salon-open-science/
SUMMARY:Digitaler Salon: Open Science
DESCRIPTION:Unter dem Titel Digitaler Salon – Fragen zur vernetzten Gegen
 wart laden das Alexander von Humboldt Institut für Internet und Gesellsch
 aft und die NETZ.REPORTER von DRadio Wissen ein\, gemeinsam die Potenziale
  und Konsequenzen der Digitalisierung zu diskutieren.\n\nDer letzte Mittwo
 ch im März behandelte das Thema Open Science. Moderne Kommunikationsmitte
 l eröffnen neue Wege des Publizierens und Kooperierens. Verändert sich d
 adurch Wissenschaft? Wie sehen diese Wandlungsprozesse aus und was daran i
 st wirklich neu?\n\nMit dabei waren Prof. Peter Frensch\, Vizepräsident f
 ür Forschung der Humboldt-Universität zu Berlin\, Martin Fenner\, Medizi
 ner und Autor für die Public Library of Science\, Open Access Forscherin 
 Maxi Kindling sowie Sascha Friesike vom Alexander von Humboldt Institut f
 ür Internet und Gesellschaft. Für einen angeregten Austausch sorgte dies
 es mal Thilo Jahn von DRadio Wissen.\n\n 	Podcast der Sendung\n\nDer Digit
 ale Salon wird immer am Samstag nach der Veranstaltung 11:05 Uhr bei DRadi
 o Wissen gesendet.\n\n[photospace ids="11122\,11123\,11125\,11127\,11129\,
 11130\,11131\,11132\,11133\,11120\,11121"]\n\nDie Kooperative Berlin produ
 ziert seit 2010 den NETZ.REPORTER für DRadio Wissen und organisiert 2013 
 die Talkreihe Digitaler Salon im Auftrag und in Zusammenarbeit mit DRadio 
 Wissen und dem Alexander von Humboldt Institut für Internet und Gesellsch
 aft.
CATEGORIES:Digitaler Salon
LOCATION:Ehemalige Institutsräume des HIIG | Raum E27\, Bebelplatz 1\, Ber
 lin\, 10117\, Deutschland
X-APPLE-STRUCTURED-LOCATION;VALUE=URI;X-ADDRESS=Bebelplatz 1\, Berlin\, 101
 17\, Deutschland;X-APPLE-RADIUS=100;X-TITLE=Ehemalige Institutsräume des 
 HIIG | Raum E27:geo:0,0
END:VEVENT
BEGIN:VTIMEZONE
TZID:Europe/Berlin
X-LIC-LOCATION:Europe/Berlin
BEGIN:STANDARD
DTSTART:20121028T020000
TZOFFSETFROM:+0200
TZOFFSETTO:+0100
TZNAME:CET
END:STANDARD
END:VTIMEZONE
END:VCALENDAR