BEGIN:VCALENDAR
VERSION:2.0
PRODID:-//wp-events-plugin.com//7.2.3.1//EN
TZID:Europe/Berlin
X-WR-TIMEZONE:Europe/Berlin
BEGIN:VEVENT
UID:14@hiig.de
DTSTART;TZID=Europe/Berlin:20130626T183000
DTEND;TZID=Europe/Berlin:20130626T220000
DTSTAMP:20190417T100905Z
URL:https://www.hiig.de/events/digitaler-salon-open-hardware/
SUMMARY:Digitaler Salon: Open Hardware
DESCRIPTION:Sind 3D-Drucker Vorboten einer neuen industriellen Revolution? 
 Verändert oder ergänzt Partizipation im Internet klassische Produktionsp
 rozesse?\n\n\n\nNach einem kurzen Impulsvortrag von Dr. Hendrik Send\, For
 scher am Alexander von Humboldt Institut für Internet und Gesellschaft\, 
 navigierte Marlis Schaum von DRadio Wissen wieder unterhaltsam durch die U
 ntiefen des Themas – für die fachliche Kompetenz der Sendung sorgten Ma
 rlene Vogel\, Physikerin und Mitgründerin des vom Bundeswirtschaftsminist
 erium ausgezeichneten Start-Ups Trinckle 3D\, Peter Bihr\, Programmdirekto
 r der Berliner Konferenz NEXT und Robin Tech\, Forscher am Alexander von H
 umboldt Institut für Internet und Gesellschaft im Bereich Finance and Con
 trolling sowie Internetbasierte Innovation.\n\nDer Digitale Salon wurde LI
 VE gestreamt\, heiß diskutiert auf Twitter unter #digsal sowie am Samstag
  nach der Veranstaltung um 11:05 Uhr als NETZ.REPORTER XL bei DRadio Wisse
 n gesendet.\n\n\n	Die Sendung als Podcast (mp3)\n\n\nDie Kooperative Berl
 in produziert seit 2010 den NETZ.REPORTER für DRadio Wissen und organisie
 rt 2013 die Talkreihe Digitaler Salon im Auftrag und in Zusammenarbeit mit
  DRadio Wissen und dem Alexander von Humboldt Institut für Internet und G
 esellschaft.\n\n[photospace ids="12450\,12451\,12452\,12453\,12454\,12455\
 ,12456\,12457\,12458"]
ATTACH;FMTTYPE=image/jpeg:https://www.hiig.de/wp-content/uploads/2012/08/d
 igsal2.jpg
CATEGORIES:Digitaler Salon
LOCATION:Ehemalige Institutsräume des HIIG | Raum E27\, Bebelplatz 1\, Ber
 lin\, 10117\, Deutschland
X-APPLE-STRUCTURED-LOCATION;VALUE=URI;X-ADDRESS=Bebelplatz 1\, Berlin\, 101
 17\, Deutschland;X-APPLE-RADIUS=100;X-TITLE=Ehemalige Institutsräume des 
 HIIG | Raum E27:geo:0,0
END:VEVENT
BEGIN:VTIMEZONE
TZID:Europe/Berlin
X-LIC-LOCATION:Europe/Berlin
BEGIN:DAYLIGHT
DTSTART:20130331T030000
TZOFFSETFROM:+0100
TZOFFSETTO:+0200
TZNAME:CEST
END:DAYLIGHT
END:VTIMEZONE
END:VCALENDAR