BEGIN:VCALENDAR
VERSION:2.0
PRODID:-//wp-events-plugin.com//7.2.3.1//EN
TZID:Europe/Berlin
X-WR-TIMEZONE:Europe/Berlin
BEGIN:VEVENT
UID:436@hiig.de
DTSTART;TZID=Europe/Berlin:20170830T190000
DTEND;TZID=Europe/Berlin:20170830T203000
DTSTAMP:20231220T110857Z
URL:https://www.hiig.de/events/digitaler-salon-nebenwirkungen-algorithmus/
SUMMARY:Digitaler Salon: Bei Nebenwirkungen fragen Sie Ihren Algorithmus
DESCRIPTION:Bei Nebenwirkungen fragen Sie Ihren Algorithmus: Länger und b
 esser leben durch personalisierte Tabletten und Nano-Roboter. Welchen Einf
 luss hat KI auf die Medizin von morgen? Und wohin mit den ganzen Daten? Am
  30.08.2017 um 19.00 Uhr im HIIG. Der Digitale Salon findet jeden letzten 
 Mittwoch im Monat statt.
CATEGORIES:Digitaler Salon,Events vor 2018 ohne Titelbild
LOCATION:Humboldt Institut für Internet und Gesellschaft\, Französische S
 traße 9\, Berlin\, 10117\, Deutschland
X-APPLE-STRUCTURED-LOCATION;VALUE=URI;X-ADDRESS=Französische Straße 9\, B
 erlin\, 10117\, Deutschland;X-APPLE-RADIUS=100;X-TITLE=Humboldt Institut f
 ür Internet und Gesellschaft:geo:0,0
END:VEVENT
BEGIN:VTIMEZONE
TZID:Europe/Berlin
X-LIC-LOCATION:Europe/Berlin
BEGIN:DAYLIGHT
DTSTART:20170326T030000
TZOFFSETFROM:+0100
TZOFFSETTO:+0200
TZNAME:CEST
END:DAYLIGHT
END:VTIMEZONE
END:VCALENDAR