BEGIN:VCALENDAR
VERSION:2.0
PRODID:-//wp-events-plugin.com//7.2.3.1//EN
TZID:Europe/Berlin
X-WR-TIMEZONE:Europe/Berlin
BEGIN:VEVENT
UID:387@hiig.de
DTSTART;TZID=Europe/Berlin:20170222T190000
DTEND;TZID=Europe/Berlin:20170222T203000
DTSTAMP:20231220T110942Z
URL:https://www.hiig.de/events/digitaler-salon-make-fakten-relevant-again/
SUMMARY:Digitaler Salon: Make Fakten relevant again
DESCRIPTION:Make Fakten relevant again. Emotionen sind die neue Vernunft. D
 och was können aufgeklärte Bürger dem Populismus entgegensetzen? Wie re
 tten wir die Demokratie in Zeiten von Newsbots\, Angst und Filterbubble? A
 m 22.02.2017 um 19.00 Uhr im HIIG. Der Digitale Salon findet jeden letzten
  Mittwoch im Monat statt.
CATEGORIES:Digitaler Salon,Events vor 2018 ohne Titelbild
LOCATION:Humboldt Institut für Internet und Gesellschaft\, Französische S
 traße 9\, Berlin\, 10117\, Deutschland
X-APPLE-STRUCTURED-LOCATION;VALUE=URI;X-ADDRESS=Französische Straße 9\, B
 erlin\, 10117\, Deutschland;X-APPLE-RADIUS=100;X-TITLE=Humboldt Institut f
 ür Internet und Gesellschaft:geo:0,0
END:VEVENT
BEGIN:VTIMEZONE
TZID:Europe/Berlin
X-LIC-LOCATION:Europe/Berlin
BEGIN:STANDARD
DTSTART:20161030T020000
TZOFFSETFROM:+0200
TZOFFSETTO:+0100
TZNAME:CET
END:STANDARD
END:VTIMEZONE
END:VCALENDAR