BEGIN:VCALENDAR
VERSION:2.0
PRODID:-//wp-events-plugin.com//7.2.3.1//EN
TZID:Europe/Berlin
X-WR-TIMEZONE:Europe/Berlin
BEGIN:VEVENT
UID:720@hiig.de
DTSTART;TZID=Europe/Berlin:20190829T183000
DTEND;TZID=Europe/Berlin:20190829T210000
DTSTAMP:20191118T114353Z
URL:https://www.hiig.de/events/digitaler-salon-junges-engagement-im-digita
 len-zeitalter/
SUMMARY:Digitaler Salon: Hashtag e.V.
DESCRIPTION:Engagement findet heute auch online statt – mit Hashtags und 
 Posts macht es sich bemerkbar und einzelne Bewegungen breiten sich mit ras
 anter Geschwindigkeit teils über den ganzen Globus aus. \n\n&nbsp\;\nDigi
 taler Salon – Hashtag e.V.\nDonnerstag\, 29.08.2019 | 19.00 Uhr | HIIG |
  Französische Straße 9 | 10117 Berlin\n&nbsp\;\n\nDie #Fridaysforfuture-
 Bewegung\, #ichbinhier oder Jugend hackt zeigen aktuell\, wie die Neuaufla
 ge des Engagements aussieht. Online-Petitionen und soziale Medien eröffne
 n neue Möglichkeiten und scheinen Barrieren zu vermindern. Wird die junge
  Generation mit ihren Meinungen und ihrem Aufbegehren gesehen und von poli
 tischen Akteuren ernst genommen? Woher kommt eigentlich die Motivation der
  digital Engagierten? Was unterscheidet sie von den Generationen vor ihnen
  sowie von etablierten Formen des Engagements? \n\n&nbsp\;\n\nDie Moderat
 orin Katja Weber (radioeins\, Deutschlandfunk Nova) diskutierte u.a. mit
 :\n\n 	Linda Volker\, Fridays for Future\n 	Silvan Wagenknecht\, Pro-Europ
 äischer Aktivist\, Pulse of Europe Initiative\n 	\nJune Tomiak\, Sprecher
 in Jugendpolitik bei B90 die Grünen\n 	\nTheresa Züger\, Leiterin Projek
 tteam Dritter Engagement Bericht\n\nDie Einführung in das Thema übernahm
  Julia Tiemann-Kollipost\, Referentin der Geschäftsstelle Dritter Engagem
 entbericht.\n\n&nbsp\;\n\n\n\n\n[photospace ids="62150\,62152\,62154\,6215
 6\,62158\,62160\,62162\,62164\,62166\,62168\,62170\,62172\,62174"]\nDer Di
 gitale Salon öffnet um 18:30 Uhr seine Türen. Ab 19:00 Uhr wird die Send
 ung live auf hiig.de übertragen. Dann heißt es mitmachen – vor Ort und
  per Twitter via #DigSal. Der Digitale Salon findet jeden letzten Mittwoch
  im Monat unter einer anderen Fragestellung statt. Aufzeichnungen vergange
 ner Digitaler Salons und mehr Informationen finden Sie hier.\n\nFür den D
 igitalen Salon ist keine Registrierung erforderlich.\n\n
ATTACH;FMTTYPE=image/jpeg:https://www.hiig.de/wp-content/uploads/2019/07/H
 ashtag-ev_16x9.jpg
CATEGORIES:Digitaler Salon
LOCATION:Humboldt Institut für Internet und Gesellschaft\, Französische S
 traße 9\, Berlin\, 10117\, Deutschland
X-APPLE-STRUCTURED-LOCATION;VALUE=URI;X-ADDRESS=Französische Straße 9\, B
 erlin\, 10117\, Deutschland;X-APPLE-RADIUS=100;X-TITLE=Humboldt Institut f
 ür Internet und Gesellschaft:geo:0,0
END:VEVENT
BEGIN:VTIMEZONE
TZID:Europe/Berlin
X-LIC-LOCATION:Europe/Berlin
BEGIN:DAYLIGHT
DTSTART:20190331T030000
TZOFFSETFROM:+0100
TZOFFSETTO:+0200
TZNAME:CEST
END:DAYLIGHT
END:VTIMEZONE
END:VCALENDAR