BEGIN:VCALENDAR
VERSION:2.0
PRODID:-//wp-events-plugin.com//7.2.3.1//EN
TZID:Europe/Berlin
X-WR-TIMEZONE:Europe/Berlin
BEGIN:VEVENT
UID:13@hiig.de
DTSTART;TZID=Europe/Berlin:20130529T183000
DTEND;TZID=Europe/Berlin:20130529T220000
DTSTAMP:20190107T164613Z
URL:https://www.hiig.de/events/digitaler-salon-journalismus-und-technologi
 e/
SUMMARY:Digitaler Salon: Journalismus und Technologie
DESCRIPTION:Verlage und Sender sind zu ständiger Innovation und Investitio
 n in neue Technologien gezwungen. Werden Redakteure zu Programmierern?\n\n
 Im Mai unter dem Motto Journalismus und Technologie. Unsere Experten für 
 dieses Thema: Michael Praetorius\, Publizist und Medienberater in Münche
 n und Berlin\, Christoph Dernbach\, Redaktionsleiter der dpa-Netzwelt\, An
 ja Stöcker\, Redaktionsleitung Online und Social Media bei DRadio Wissen 
 sowie Nele Heise\, Journalismusforscherin vom Hans-Bredow-Institut in Hamb
 urg – moderiert von Marlis Schaum von DRadio Wissen.\n\n	Die Sendung als
  Podcast (mp3)\n\nDer Digitale Salon wurde LIVE gestreamt\, heiß diskutie
 rt auf Twitter unter #digsal sowie am Samstag nach der Veranstaltung um 11
 :05 Uhr als NETZ.REPORTER XL bei DRadio Wissen gesendet.\n\nDie Kooperati
 ve Berlin produziert seit 2010 den NETZ.REPORTER für DRadio Wissen und or
 ganisiert 2013 die Talkreihe Digitaler Salon im Auftrag und in Zusammenarb
 eit mit DRadio Wissen und dem Alexander von Humboldt Institut für Interne
 t und Gesellschaft.
ATTACH;FMTTYPE=image/jpeg:https://www.hiig.de/wp-content/uploads/2012/08/d
 igsal1-e1536914094905.jpg
CATEGORIES:Digitaler Salon
LOCATION:Ehemalige Institutsräume des HIIG | Raum E27\, Bebelplatz 1\, Ber
 lin\, 10117\, Deutschland
X-APPLE-STRUCTURED-LOCATION;VALUE=URI;X-ADDRESS=Bebelplatz 1\, Berlin\, 101
 17\, Deutschland;X-APPLE-RADIUS=100;X-TITLE=Ehemalige Institutsräume des 
 HIIG | Raum E27:geo:0,0
END:VEVENT
BEGIN:VTIMEZONE
TZID:Europe/Berlin
X-LIC-LOCATION:Europe/Berlin
BEGIN:DAYLIGHT
DTSTART:20130331T030000
TZOFFSETFROM:+0100
TZOFFSETTO:+0200
TZNAME:CEST
END:DAYLIGHT
END:VTIMEZONE
END:VCALENDAR