BEGIN:VCALENDAR
VERSION:2.0
PRODID:-//wp-events-plugin.com//7.2.3.1//EN
TZID:Europe/Berlin
X-WR-TIMEZONE:Europe/Berlin
BEGIN:VEVENT
UID:275@hiig.de
DTSTART;TZID=Europe/Berlin:20151125T190000
DTEND;TZID=Europe/Berlin:20151125T203000
DTSTAMP:20231220T145644Z
URL:https://www.hiig.de/events/digitaler-salon-fluchthelfer-smartphone/
SUMMARY:Digitaler Salon: Fluchthelfer Smartphone
DESCRIPTION:Navigator nach Europa\, Sprachrohr in die Heimat. Wie hilft d
 as Internet Menschen auf der Flucht?\nDigitale Konnektivität ist immer me
 hr ein Grundbedürfnis aller Menschen. Besonders auf der Flucht werden Sma
 rtphone und Internetzugang zum treuen Wegbegleiter\, ob als Kompass\, Lan
 dkarte oder Helfer in der Not. Dabei geht es um den Kontakt mit Familie u
 nd Freunden\, sowie zu Hilfsorganisationen und sozialen Medien. Deshalb fr
 agen wir: Wie hilft das Internet Menschen auf der Flucht?\nAuch in der neu
 en Heimat sind Apps und Internetseiten wichtige Wegweiser. Sie vermitteln 
 Spenden und bieten Informationen zur Wohnungs- und Arbeitssuche. Die groß
 e Hilfsbereitschaft wird ebenfalls im Netz organisiert. Aber welche Rolle 
 spielen Apps im Alltag geflüchteter Menschen wirklich? Und welche Potenti
 ale bieten sich in der Zukunft\, Geflohene und Helfende durch Technologien
  zu unterstützen?\n\nFLUCHTHELFER SMARTPHONE\n25.11.2015 | 19.00 Uhr | A
 CUD MACHT NEU | Veteranenstraße 21 | Berlin-Mitte\nKatja Weber von DRad
 io Wissen diskutierte am 25. November mit:\n\n\n 	Florian Rücker\, Kiron
  University\, @KironUniversity\n 	Vassilis Tsianos\, Universität Hambur
 g\n 	Anke Domscheit-Berg\, Refugee Hackathon\, @anked\, @refugeehackatho
 n\n 	Maqbool Siddiqi\n\nEine Einführung zum Thema gab Kai Gärtner\, Mit
 arbeiter des Alexander von Humboldt Institut für Internet und Gesellscha
 ft und Webredakteur der Initiative www.schnell-helfen.de.\n\n[photospac
 e ids="25663\,25664\,25665\,25666\,25667\,25668\,25669\,25670\,25671\,2567
 2\,25673\,25674"]\n\nDer Digitale Salon öffnet ab 18:30 Uhr seine Türen.
  Ab 19:00 Uhr wird die Sendung live auf hiig.de übertragen. Dann heißt
  es mitmachen – vor Ort und per Twitter via #DigSal. Der Digitale Salon
  findet jeden letzten Mittwoch im Monat unter einer anderen Fragestellung 
 statt. Aufzeichnungen vergangener Digitaler Salons und mehr Informationen 
 finden Sie unter www.hiig.de/DigSal.\n\n
ATTACH;FMTTYPE=image/jpeg:https://www.hiig.de/wp-content/uploads/2015/10/f
 luchthelfer_banner_klaviyo.png
CATEGORIES:Digitaler Salon,Events vor 2018 ohne Titelbild
LOCATION:ACUD MACHT NEU\, Veteranenstraße 21\, Berlin-Mitte\, 10119\, Deut
 schland
X-APPLE-STRUCTURED-LOCATION;VALUE=URI;X-ADDRESS=Veteranenstraße 21\, Berli
 n-Mitte\, 10119\, Deutschland;X-APPLE-RADIUS=100;X-TITLE=ACUD MACHT NEU:ge
 o:0,0
END:VEVENT
BEGIN:VTIMEZONE
TZID:Europe/Berlin
X-LIC-LOCATION:Europe/Berlin
BEGIN:STANDARD
DTSTART:20151025T020000
TZOFFSETFROM:+0200
TZOFFSETTO:+0100
TZNAME:CET
END:STANDARD
END:VTIMEZONE
END:VCALENDAR