BEGIN:VCALENDAR
VERSION:2.0
PRODID:-//wp-events-plugin.com//7.2.3.1//EN
TZID:Europe/Berlin
X-WR-TIMEZONE:Europe/Berlin
BEGIN:VEVENT
UID:134@hiig.de
DTSTART;TZID=Europe/Berlin:20140730T190000
DTEND;TZID=Europe/Berlin:20140730T203000
DTSTAMP:20180524T054525Z
URL:https://www.hiig.de/events/digitaler-salon-dr-bing-dr-google-suchen-wi
 r-uns-krank/
SUMMARY:Digitaler Salon: Dr. Bing & Dr. Google. Suchen wir uns krank?
DESCRIPTION:Haben Sie sich schon mal selbst eine Angina pectoris diagnostiz
 iert? Dann gehören Sie vermutlich zu den self-made Ärzten\, die bei Schm
 erzen lieber die Suchmaschine denn ihren Arzt kontaktieren. Krankenkassen 
 stöhnen\, das Gesundheitsministerium warnt. Können Foren ein Studium ers
 etzen?\n\n\n\nUnsere Gäste am 30.07.2014\n\n 	Anja Bittner\, Mitgründeri
 n von washabich.de und ärztliche Leitung des Projektes\n 	Sebastian Krolo
 p\, Unternehmensberatung Accenture GmbH\n 	Gunnar Schwan\, Stiftung Warent
 est\; Bereich Online-Gesundheitsforen\n\n\n[photospace ids="18599\,18600\,
 18601\,18602\,18603\,18604\,18605\,18606\,18607\,18608\,18609\,18610\,1861
 1\,18612\,18613\,18614"]\n\nEinmal monatlich zum Digitalen Salon stellen s
 ich unsere Gäste den ‚Fragen zur vernetzten Gegenwart‘. In unserer Di
 skussionsreihe beleuchten wir Netz-Phänomene\, erörtern Vor- und Nachtei
 le technischer Veränderungen und geben Denkanstöße. Kommunizieren auch 
 Sie Ihre Meinung vor\, während und nach der Sendung direkt auf unserer We
 bseite\, über Social Media oder per Postkarte. Der Digitale Salon ist ein
 e Kooperation zwischen DRadio Wissen und dem Humboldt Institut für Intern
 et und Gesellschaft.\n\n\n\n PDF ansehen\nSave the Date: Dr. Bing &amp\; D
 r. Google. Suchen wir uns krank?\n\n\n\nAm letzten Mittwoch des Monats um 
 19:00 Uhr.\nAnalog: In den Räumen des HIIG • Bebelplatz 1 • mit Wein 
 &amp\; Brezeln • Einlass ab 18:30 Uhr\nDigital: #DigSal • Livestream v
 ia www.dradiowissen.de und www.hiig.de\nRadio: Immer am dritten Sonntag de
 s Monats ab 18:05 Uhr im Hörsaal auf Dradio Wissen.
CATEGORIES:Digitaler Salon
LOCATION:Ehemalige Institutsräume des HIIG | Raum E27\, Bebelplatz 1\, Ber
 lin\, 10117\, Deutschland
X-APPLE-STRUCTURED-LOCATION;VALUE=URI;X-ADDRESS=Bebelplatz 1\, Berlin\, 101
 17\, Deutschland;X-APPLE-RADIUS=100;X-TITLE=Ehemalige Institutsräume des 
 HIIG | Raum E27:geo:0,0
END:VEVENT
BEGIN:VTIMEZONE
TZID:Europe/Berlin
X-LIC-LOCATION:Europe/Berlin
BEGIN:DAYLIGHT
DTSTART:20140330T030000
TZOFFSETFROM:+0100
TZOFFSETTO:+0200
TZNAME:CEST
END:DAYLIGHT
END:VTIMEZONE
END:VCALENDAR