BEGIN:VCALENDAR
VERSION:2.0
PRODID:-//wp-events-plugin.com//7.2.3.1//EN
TZID:Europe/Berlin
X-WR-TIMEZONE:Europe/Berlin
BEGIN:VEVENT
UID:1340@hiig.de
DTSTART;TZID=Europe/Berlin:20240925T190000
DTEND;TZID=Europe/Berlin:20240925T200000
DTSTAMP:20240930T142650Z
URL:https://www.hiig.de/events/digitaler-salon-dj-ai/
SUMMARY:Digitaler Salon: DJ AI
DESCRIPTION:In der September-Ausgabe des Digitalen Salons geht es um Musik 
 und welche Auswirkungen KI-generierte Inhalte auf unser Urheberrecht haben
 . 
ATTACH;FMTTYPE=image/jpeg:https://www.hiig.de/wp-content/uploads/2024/09/W
 ebsite-DigSal-September-–-5.png
CATEGORIES:Alltag,Digitaler Salon,KI,Politik &amp; Recht
LOCATION:Humboldt Institut für Internet und Gesellschaft\, Französische S
 traße 9\, Berlin\, 10117\, Deutschland
X-APPLE-STRUCTURED-LOCATION;VALUE=URI;X-ADDRESS=Französische Straße 9\, B
 erlin\, 10117\, Deutschland;X-APPLE-RADIUS=100;X-TITLE=Humboldt Institut f
 ür Internet und Gesellschaft:geo:0,0
END:VEVENT
BEGIN:VTIMEZONE
TZID:Europe/Berlin
X-LIC-LOCATION:Europe/Berlin
BEGIN:DAYLIGHT
DTSTART:20240331T030000
TZOFFSETFROM:+0100
TZOFFSETTO:+0200
TZNAME:CEST
END:DAYLIGHT
END:VTIMEZONE
END:VCALENDAR