BEGIN:VCALENDAR
VERSION:2.0
PRODID:-//wp-events-plugin.com//7.2.3.1//EN
TZID:Europe/Berlin
X-WR-TIMEZONE:Europe/Berlin
BEGIN:VEVENT
UID:61@hiig.de
DTSTART;TZID=Europe/Berlin:20131127T190000
DTEND;TZID=Europe/Berlin:20131127T210000
DTSTAMP:20180524T063957Z
URL:https://www.hiig.de/events/digitaler-salon-cybersecurity-und-cloud%c2%
 adcomputing/
SUMMARY:Digitaler Salon: Cybersecurity und Cloud­computing
DESCRIPTION:Cybersecurity und Cloud­computing. Eine Illusion?\nLiegt die L
 ösung in der Entwicklung neuer oder in der Weiterentwicklung bestehender 
 Technologien? Fehlt es den Beteiligten an Bewusstsein oder nur an Beispiel
 en guter Praxis? Brauchen wir neue gesetzliche Regelungen oder müssen wir
  statt dessen mit der Fehlbarkeit der Technik und den daraus entstehenden 
 Risiken leben?\n\n\n\nAm 27.11.2013 sprach Marlis Schaum von DRadio Wissen
  mit folgenden Gästen:\n\n	Sandro Gaycken\, Mitarbeiter AG Sichere Identi
 tät an der Freien Universität Berlin\n	Klaus Lenssen\, Senior Business 
 Development Manager Security bei Cisco Systems GmbH\n	Nikolai Longolius\, 
 Geschäftsführer Schnee von morgen webTV GmbH\n	Philipp Otto\, Projektlei
 ter iRIGHTS CLOUD\n	Frank Pallas\, Professor für Informatik und Gesellsch
 aft an der Technischen Universität Berlin\n\nDie Sendung wurde am Samstag
 \, den 07. Dezember um 11.05 Uhr auf DRadio Wissen gesendet.\n\n	Die Sendu
 ng als Podcast (mp3)\n\nEine Einführung in die Thematik gab Frédéric Du
 bois\, Redakteur des Internet Policy Review am HIIG.\n\nDer Digitale Salon
  öffnet ab 18:30 Uhr die Türen für alle Interessierten\, ab 19:00 wird 
 live auf hiig.de übertragen und auf Twitter unter #DigSal mit diskutiert.
  Immer am darauffolgenden Samstag gegen 11:05 Uhr ist die Sendung dann bei
  DRadio Wissen zu hören. Der Digitale Salon findet jeden letzten Mittwoch
  im Monat unter einer anderen Fragestellung statt. Aufzeichnungen vergange
 ner Digitaler Salons finden Sie unter www.hiig.de/DigSal.
ATTACH;FMTTYPE=image/jpeg:https://www.hiig.de/wp-content/uploads/2013/09/B
 ildschirmfoto-2013-09-28-um-03.16.43.png
CATEGORIES:Digitaler Salon
LOCATION:Ehemalige Institutsräume des HIIG | Raum E27\, Bebelplatz 1\, Ber
 lin\, 10117\, Deutschland
X-APPLE-STRUCTURED-LOCATION;VALUE=URI;X-ADDRESS=Bebelplatz 1\, Berlin\, 101
 17\, Deutschland;X-APPLE-RADIUS=100;X-TITLE=Ehemalige Institutsräume des 
 HIIG | Raum E27:geo:0,0
END:VEVENT
BEGIN:VTIMEZONE
TZID:Europe/Berlin
X-LIC-LOCATION:Europe/Berlin
BEGIN:STANDARD
DTSTART:20131027T020000
TZOFFSETFROM:+0200
TZOFFSETTO:+0100
TZNAME:CET
END:STANDARD
END:VTIMEZONE
END:VCALENDAR