BEGIN:VCALENDAR
VERSION:2.0
PRODID:-//wp-events-plugin.com//7.2.3.1//EN
TZID:Europe/Berlin
X-WR-TIMEZONE:Europe/Berlin
BEGIN:VEVENT
UID:1500@hiig.de
DTSTART;TZID=Europe/Berlin:20260325T190000
DTEND;TZID=Europe/Berlin:20260325T200000
DTSTAMP:20260325T195313Z
URL:https://www.hiig.de/events/digitaler-salon-beziehungsstatus-komplizier
 t/
SUMMARY:Digitaler Salon: Beziehungsstatus kompliziert
DESCRIPTION:In dieser Ausgabe diskutieren wir über Beziehungen zu Chatbots
  und die Grenze zwischen echter Verbundenheit und künstlicher Intimität.
ATTACH;FMTTYPE=image/jpeg:https://www.hiig.de/wp-content/uploads/2026/02/W
 ebsite-DigSal-Maerz-–-4.png
CATEGORIES:Alltag,Digitaler Salon,Wissen
LOCATION:Humboldt Institut für Internet und Gesellschaft\, Französische S
 traße 9\, Berlin\, 10117\, Deutschland
X-APPLE-STRUCTURED-LOCATION;VALUE=URI;X-ADDRESS=Französische Straße 9\, B
 erlin\, 10117\, Deutschland;X-APPLE-RADIUS=100;X-TITLE=Humboldt Institut f
 ür Internet und Gesellschaft:geo:0,0
END:VEVENT
BEGIN:VTIMEZONE
TZID:Europe/Berlin
X-LIC-LOCATION:Europe/Berlin
BEGIN:STANDARD
DTSTART:20251026T020000
TZOFFSETFROM:+0200
TZOFFSETTO:+0100
TZNAME:CET
END:STANDARD
END:VTIMEZONE
END:VCALENDAR