BEGIN:VCALENDAR
VERSION:2.0
PRODID:-//wp-events-plugin.com//7.2.3.1//EN
TZID:Europe/Berlin
X-WR-TIMEZONE:Europe/Berlin
BEGIN:VEVENT
UID:611@hiig.de
DTSTART;TZID=Europe/Berlin:20180813T190000
DTEND;TZID=Europe/Berlin:20180813T213000
DTSTAMP:20180807T133640Z
URL:https://www.hiig.de/events/die-zukunft-des-open-access-in-deutschland/
SUMMARY:Die Zukunft des Open Access in Deutschland
DESCRIPTION:In diesem Treffen werden wir mit Dr. Nick Fowler (Elsevier) und
  Gerard Meijer (Wissenschaftsrat) über die DEAL-Verhandlungen und die Zuk
 unft des Open Access in Deutschland diskutieren. 
ATTACH;FMTTYPE=image/jpeg:https://www.hiig.de/wp-content/uploads/2018/08/M
 eetup-06.png
CATEGORIES:Exploring Digital Spheres
LOCATION:Humboldt Institut für Internet und Gesellschaft\, Französische S
 traße 9\, Berlin\, 10117\, Deutschland
X-APPLE-STRUCTURED-LOCATION;VALUE=URI;X-ADDRESS=Französische Straße 9\, B
 erlin\, 10117\, Deutschland;X-APPLE-RADIUS=100;X-TITLE=Humboldt Institut f
 ür Internet und Gesellschaft:geo:0,0
END:VEVENT
BEGIN:VTIMEZONE
TZID:Europe/Berlin
X-LIC-LOCATION:Europe/Berlin
BEGIN:DAYLIGHT
DTSTART:20180325T030000
TZOFFSETFROM:+0100
TZOFFSETTO:+0200
TZNAME:CEST
END:DAYLIGHT
END:VTIMEZONE
END:VCALENDAR