BEGIN:VCALENDAR
VERSION:2.0
PRODID:-//wp-events-plugin.com//7.2.3.1//EN
TZID:Europe/Berlin
X-WR-TIMEZONE:Europe/Berlin
BEGIN:VEVENT
UID:1346@hiig.de
DTSTART;TZID=Europe/Berlin:20241113T100000
DTEND;TZID=Europe/Berlin:20241113T130000
DTSTAMP:20241211T100452Z
URL:https://www.hiig.de/events/diamond-open-access-erfolgreich-organisiere
 n-und-gestalten/
SUMMARY:Diamond Open Access erfolgreich organisieren und gestalten
DESCRIPTION:In diesem Multi-Stakeholder-Format wird es um Governance-Strukt
 uren und nachhaltige Organisationsprinzipien des Open Access gehen.
ATTACH;FMTTYPE=image/jpeg:https://www.hiig.de/wp-content/uploads/2024/08/p
 exels-tima-miroshnichenko-6508563-scaled.jpg
LOCATION:Online\, HIIG\, Berlin\, Deutschland
X-APPLE-STRUCTURED-LOCATION;VALUE=URI;X-ADDRESS=HIIG\, Berlin\, Deutschland
 ;X-APPLE-RADIUS=100;X-TITLE=Online:geo:0,0
END:VEVENT
BEGIN:VTIMEZONE
TZID:Europe/Berlin
X-LIC-LOCATION:Europe/Berlin
BEGIN:STANDARD
DTSTART:20241027T020000
TZOFFSETFROM:+0200
TZOFFSETTO:+0100
TZNAME:CET
END:STANDARD
END:VTIMEZONE
END:VCALENDAR