BEGIN:VCALENDAR
VERSION:2.0
PRODID:-//wp-events-plugin.com//7.2.3.1//EN
TZID:Europe/Berlin
X-WR-TIMEZONE:Europe/Berlin
BEGIN:VEVENT
UID:1322@hiig.de
DTSTART;TZID=Europe/Berlin:20241024T150000
DTEND;TZID=Europe/Berlin:20241024T171500
DTSTAMP:20241211T101359Z
URL:https://www.hiig.de/events/diamond-open-access-blitzlicht/
SUMMARY:Diamond Open Access Blitzlicht
DESCRIPTION:Dieses Webinar ist Teil der International Open Access Week zum 
 Thema “Community over Commercialization”.
ATTACH;FMTTYPE=image/jpeg:https://www.hiig.de/wp-content/uploads/2024/07/W
 ebsite-ELADOAH-Workshop_241023-–-1.png
LOCATION:Online\, HIIG\, Berlin\, Deutschland
X-APPLE-STRUCTURED-LOCATION;VALUE=URI;X-ADDRESS=HIIG\, Berlin\, Deutschland
 ;X-APPLE-RADIUS=100;X-TITLE=Online:geo:0,0
END:VEVENT
BEGIN:VTIMEZONE
TZID:Europe/Berlin
X-LIC-LOCATION:Europe/Berlin
BEGIN:DAYLIGHT
DTSTART:20240331T030000
TZOFFSETFROM:+0100
TZOFFSETTO:+0200
TZNAME:CEST
END:DAYLIGHT
END:VTIMEZONE
END:VCALENDAR