BEGIN:VCALENDAR
VERSION:2.0
PRODID:-//wp-events-plugin.com//7.2.3.1//EN
TZID:Europe/Berlin
X-WR-TIMEZONE:Europe/Berlin
BEGIN:VEVENT
UID:1422@hiig.de
DTSTART;TZID=Europe/Berlin:20250612T100000
DTEND;TZID=Europe/Berlin:20250612T120000
DTSTAMP:20250805T135638Z
URL:https://www.hiig.de/events/diamond-open-access-als-gemeinschaftsprojek
 t/
SUMMARY:Diamond Open Access als Gemeinschaftsprojekt
DESCRIPTION:Im Rahmen des ELADOAH-Projekts wird im Workshop-Format der entw
 ickelte Blueprint für gemeinschaftliches und faires Diamond Open Access d
 iskutiert.
ATTACH;FMTTYPE=image/jpeg:https://www.hiig.de/wp-content/uploads/2025/04/E
 LADOAH-Workshop.png
LOCATION:Online\, HIIG\, Berlin\, Deutschland
X-APPLE-STRUCTURED-LOCATION;VALUE=URI;X-ADDRESS=HIIG\, Berlin\, Deutschland
 ;X-APPLE-RADIUS=100;X-TITLE=Online:geo:0,0
END:VEVENT
BEGIN:VTIMEZONE
TZID:Europe/Berlin
X-LIC-LOCATION:Europe/Berlin
BEGIN:DAYLIGHT
DTSTART:20250330T030000
TZOFFSETFROM:+0100
TZOFFSETTO:+0200
TZNAME:CEST
END:DAYLIGHT
END:VTIMEZONE
END:VCALENDAR