BEGIN:VCALENDAR
VERSION:2.0
PRODID:-//wp-events-plugin.com//7.2.3.1//EN
TZID:Europe/Berlin
X-WR-TIMEZONE:Europe/Berlin
BEGIN:VEVENT
UID:1119@hiig.de
DTSTART:20230607T050000Z
DTEND:20230607T080000Z
DTSTAMP:20240119T124227Z
URL:https://www.hiig.de/events/dialogo-multiactor-una-perspectiva-de-gener
 o-en-el-sector-tecnologico/
SUMMARY:Diálogo multiactor: Una Perspectiva de Género en el Sector Tecnol
 ógico
DESCRIPTION:El diálogo se centra en la perspectiva de género dentro del s
 ector de la IA y la tecnología en México y en toda la región de Améric
 a Latina.
ATTACH;FMTTYPE=image/jpeg:https://www.hiig.de/wp-content/uploads/2023/05/1
 0.png
LOCATION:Hotel Dann Carlton\, Av. República de El Salvador N 34-377\, Quit
 o\, Ecuador
X-APPLE-STRUCTURED-LOCATION;VALUE=URI;X-ADDRESS=Av. República de El Salvad
 or N 34-377\, Quito\, Ecuador;X-APPLE-RADIUS=100;X-TITLE=Hotel Dann Carlto
 n:geo:0,0
END:VEVENT
END:VCALENDAR