BEGIN:VCALENDAR
VERSION:2.0
PRODID:-//wp-events-plugin.com//7.2.3.1//EN
TZID:Europe/Berlin
X-WR-TIMEZONE:Europe/Berlin
BEGIN:VEVENT
UID:1013@hiig.de
DTSTART;TZID=Europe/Berlin:20220829T190000
DTEND;TZID=Europe/Berlin:20220829T210000
DTSTAMP:20220915T090624Z
URL:https://www.hiig.de/events/david-betz-kriegsfuehrung-im-digitalen-zeit
 alter/
SUMMARY:David Betz: Kriegsführung im digitalen Zeitalter
DESCRIPTION:Diese Veranstaltung gibt einen Einblick in die Kriegsführung i
 m digitalen Zeitalter.
ATTACH;FMTTYPE=image/jpeg:https://www.hiig.de/wp-content/uploads/2022/07/B
 anner_Website_David-Betz-29.08.22.png
CATEGORIES:Redenreihe: Making sense of digital society
LOCATION:Säälchen - Holzmarkt\, Holzmarktstraße 25\, Berlin\, 10243\, De
 utschland
X-APPLE-STRUCTURED-LOCATION;VALUE=URI;X-ADDRESS=Holzmarktstraße 25\, Berli
 n\, 10243\, Deutschland;X-APPLE-RADIUS=100;X-TITLE=Säälchen - Holzmarkt:
 geo:0,0
END:VEVENT
BEGIN:VTIMEZONE
TZID:Europe/Berlin
X-LIC-LOCATION:Europe/Berlin
BEGIN:DAYLIGHT
DTSTART:20220327T030000
TZOFFSETFROM:+0100
TZOFFSETTO:+0200
TZNAME:CEST
END:DAYLIGHT
END:VTIMEZONE
END:VCALENDAR