BEGIN:VCALENDAR
VERSION:2.0
PRODID:-//wp-events-plugin.com//7.2.3.1//EN
TZID:Europe/Berlin
X-WR-TIMEZONE:Europe/Berlin
BEGIN:VEVENT
UID:883@hiig.de
DTSTART;TZID=Europe/Berlin:20210217T100000
DTEND;TZID=Europe/Berlin:20210217T153000
DTSTAMP:20210728T100049Z
URL:https://www.hiig.de/events/datenwerkstatt-fachveranstaltung-zum-dritte
 n-engagementbericht/
SUMMARY:Datenwerkstatt – Fachveranstaltung zum Dritten Engagementbericht
DESCRIPTION:Die Datenwerkstatt thematisiert und diskutiert Potenziale der D
 atenverarbeitung innerhalb von Organisationen.
ATTACH;FMTTYPE=image/jpeg:https://www.hiig.de/wp-content/uploads/2021/01/p
 exels-fauxels-3183153-scaled.jpg
CATEGORIES:Themen im Fokus
LOCATION:Zoom\, hiig.de\, Berlin\, Deutschland
X-APPLE-STRUCTURED-LOCATION;VALUE=URI;X-ADDRESS=hiig.de\, Berlin\, Deutschl
 and;X-APPLE-RADIUS=100;X-TITLE=Zoom:geo:0,0
END:VEVENT
BEGIN:VTIMEZONE
TZID:Europe/Berlin
X-LIC-LOCATION:Europe/Berlin
BEGIN:STANDARD
DTSTART:20201025T020000
TZOFFSETFROM:+0200
TZOFFSETTO:+0100
TZNAME:CET
END:STANDARD
END:VTIMEZONE
END:VCALENDAR