BEGIN:VCALENDAR
VERSION:2.0
PRODID:-//wp-events-plugin.com//7.2.3.1//EN
TZID:Europe/Berlin
X-WR-TIMEZONE:Europe/Berlin
BEGIN:VEVENT
UID:591@hiig.de
DTSTART;TZID=Europe/Berlin:20180627T130000
DTEND;TZID=Europe/Berlin:20180627T140000
DTSTAMP:20180619T154851Z
URL:https://www.hiig.de/events/content-moderation-and-platform-accountabil
 ity-lunch-talk-with-martin-j-riedl/
SUMMARY:Content Moderation and Platform Accountability - Lunch talk with Ma
 rtin J. Riedl
DESCRIPTION:Martin J. Riedl\, Gastforscher am HIIG\, wird sich mit aktuelle
 n Entwicklungen der Forschung zu Content-Moderation auf Plattformen ausei
 nandersetzten. 
ATTACH;FMTTYPE=image/jpeg:https://www.hiig.de/wp-content/uploads/2018/05/b
 ag-bags-brown-21436-Cropped.jpg
CATEGORIES:Exploring Digital Spheres
LOCATION:Humboldt Institut für Internet und Gesellschaft\, Französische S
 traße 9\, Berlin\, 10117\, Deutschland
X-APPLE-STRUCTURED-LOCATION;VALUE=URI;X-ADDRESS=Französische Straße 9\, B
 erlin\, 10117\, Deutschland;X-APPLE-RADIUS=100;X-TITLE=Humboldt Institut f
 ür Internet und Gesellschaft:geo:0,0
END:VEVENT
BEGIN:VTIMEZONE
TZID:Europe/Berlin
X-LIC-LOCATION:Europe/Berlin
BEGIN:DAYLIGHT
DTSTART:20180325T030000
TZOFFSETFROM:+0100
TZOFFSETTO:+0200
TZNAME:CEST
END:DAYLIGHT
END:VTIMEZONE
END:VCALENDAR