BEGIN:VCALENDAR
VERSION:2.0
PRODID:-//wp-events-plugin.com//7.2.3.1//EN
TZID:Europe/Berlin
X-WR-TIMEZONE:Europe/Berlin
BEGIN:VEVENT
UID:1480@hiig.de
DTSTART;TZID=Europe/Berlin:20260128T160000
DTEND;TZID=Europe/Berlin:20260128T183000
DTSTAMP:20260128T102201Z
URL:https://www.hiig.de/events/consenter-launch/
SUMMARY:Von der Einwilligungsflut zur nutzungsfreundlichen Kontrolle: Ein n
 eues Tool für effektive Selbstbestimmung über deine Daten
DESCRIPTION:Bei diesem Launch stellen wir Ihnen einen neuen Einwilligungsas
 sistenten vor und diskutieren über effektive digitale Selbstbestimmung.
ATTACH;FMTTYPE=image/jpeg:https://www.hiig.de/wp-content/uploads/2025/11/E
 ventseite_ConsenterLaunch-–-3.png
LOCATION:Einstein Center Digital Future\, Wilhelmstraße 67\, Berlin\, 1011
 7\, Deutschland
X-APPLE-STRUCTURED-LOCATION;VALUE=URI;X-ADDRESS=Wilhelmstraße 67\, Berlin\
 , 10117\, Deutschland;X-APPLE-RADIUS=100;X-TITLE=Einstein Center Digital F
 uture:geo:0,0
END:VEVENT
BEGIN:VTIMEZONE
TZID:Europe/Berlin
X-LIC-LOCATION:Europe/Berlin
BEGIN:STANDARD
DTSTART:20251026T020000
TZOFFSETFROM:+0200
TZOFFSETTO:+0100
TZNAME:CET
END:STANDARD
END:VTIMEZONE
END:VCALENDAR