BEGIN:VCALENDAR
VERSION:2.0
PRODID:-//wp-events-plugin.com//7.2.3.1//EN
TZID:Europe/Berlin
X-WR-TIMEZONE:Europe/Berlin
BEGIN:VEVENT
UID:200@hiig.de
DTSTART;TZID=Europe/Berlin;VALUE=DATE:20150508
DTEND;TZID=Europe/Berlin;VALUE=DATE:20150510
DTSTAMP:20231220T105659Z
URL:https://www.hiig.de/events/civil-disobedience-beyond-the-state-ii-2/
SUMMARY:Ziviler Ungehorsam II
DESCRIPTION:Dieser Workshop beschäftigt sich mit dem Wandel des zivilen Un
 gehorsams vor dem Hintergrund der Digitalisierung. Im Folgenden finden Sie
  weitere\, englischsprachige Informationen zur Veranstaltung. English vers
 ion below.\n\n[caption id="attachment_21803" align="alignnone" width="700"
 ] CC BY 2.0 | Pierre (Rennes) from flickr[/caption]\n\nThe Digitalization 
 of Disobedience from Whistleblowing to Anonymous\n\nFrom the Civil Rights 
 Movement to Occupy\, civil disobedience is an essential part of the histor
 y and present of liberal democracies. At the same time\, however\, this fo
 rm of protest has remained theoretically and politically contested. Curren
 tly\, there are two central and interrelated phenomena that are triggering
  a significant transformation of civil disobedience: globalisation and dig
 italisation. Jointly\, they raise new theoretical and political challenges
  that require a rethinking of civil disobedience beyond the state. With th
 is workshop - the second in a series of three - we aim at contributing to 
 this rethinking from a variety of interdisciplinary perspectives.\n\nThe f
 ocus of this workshop is the emergence of digital tactics of civil disobed
 ience. Recently\, two digital practices have emerged as prominent new form
 s of civil disobedience\, thereby challenging the traditional understandin
 g: Anonymous and Whistleblowing. In three sessions with presentations from
  our speakers followed by a set of short comments and an open discussion w
 e will address the digital turn of civil disobedience and its implications
  for political theory.\nSpeakers \n\n 	Gabriella Coleman (McGill Universit
 y\, Montreal)\n 	Joss Hands (Anglia Ruskin University\, Cambridge)\n 	Mano
 har Kumar (Indian Institute of Technology Delhi)\n 	Geoffroy de Lagasnerie
  (l'École nationale supérieure d'arts de Cergy-Pontoise\, Paris)\n 	Bil
 l Scheuerman (Indiana University\, Bloomington)\n 	Jillian C. York (EFF\, 
 Berlin)\n\nProgramme\nFriday May 8\, 2015\n\n\n\n13:00 – 13:30\nWelcome 
 and Opening\n\n\n13:30 – 14:15\nLessons learned and emerging questions\n
 \n\n14:15 - 16:15\nSession 1: Weapons of the Geek? Anonymous and civil dis
 obedience\n\n\n16:15 – 17:00\nBreak / Location change\n\n\n17:00 – 18:
 30\n Public Lecture: Gabriella Coleman\nThe Lecture will take place at the
  Humboldt-Universität zu Berlin |\nVorlesungssaal R. 2091\, Unter den Li
 nden 6\, 10117 Berlin. Register here for Gabriella Colman’s public Lectu
 re.\n\n\n\nSaturday May 9\, 2015\n\n\n\n09:30 – 10:00\nCoffee\n\n\n10:00
  – 12:00\nSession 2: Whistleblowing - the new Civil Disobedience?\n\n\n1
 2:00 – 13:30\nLunchbreak\n\n\n13:30 – 15:30\nSession 3: The Digital Tu
 rn of Civil Disobedience?\n\n\n15:30 – 16:00\nCoffeebreak\n\n\n16:00 –
  17:00\nConcluding Session / Goodbye\n\n\n\nOrganisers\nRobin Celikates (U
 niversity of Amsterdam)\nAnnette Zimmermann (University of Oxford)\nTheres
 a Züger (Alexander von Humboldt Institute for Internet and Society)\n\nTh
 is workshop was organised with the financial support of the Alexander vo
 n Humboldt Institute for Internet and Society\, the Amsterdam Center for G
 lobalisation Studies\, the Department of Philosophy at the University of A
 msterdam\, the Department of Politics and International Relations at the U
 niversity of Oxford.\nRegistration\nParticipation on registration only. Pl
 ease contact: theresa.zueger@hiig.de
CATEGORIES:Themen im Fokus
LOCATION:ACUD MACHT NEU\, Veteranenstraße 21\, Berlin-Mitte\, 10119\, Deut
 schland
X-APPLE-STRUCTURED-LOCATION;VALUE=URI;X-ADDRESS=Veteranenstraße 21\, Berli
 n-Mitte\, 10119\, Deutschland;X-APPLE-RADIUS=100;X-TITLE=ACUD MACHT NEU:ge
 o:0,0
END:VEVENT
BEGIN:VTIMEZONE
TZID:Europe/Berlin
X-LIC-LOCATION:Europe/Berlin
BEGIN:DAYLIGHT
DTSTART:20150329T030000
TZOFFSETFROM:+0100
TZOFFSETTO:+0200
TZNAME:CEST
END:DAYLIGHT
END:VTIMEZONE
END:VCALENDAR