BEGIN:VCALENDAR
VERSION:2.0
PRODID:-//wp-events-plugin.com//7.2.3.1//EN
TZID:Europe/Berlin
X-WR-TIMEZONE:Europe/Berlin
BEGIN:VEVENT
UID:663@hiig.de
DTSTART;TZID=Europe/Berlin:20190221T190000
DTEND;TZID=Europe/Berlin:20190221T210000
DTSTAMP:20190213T150956Z
URL:https://www.hiig.de/events/city-making-im-digitalen-zeitalter/
SUMMARY:City Making im digitalen Zeitalter
DESCRIPTION:Städte\, die sich als innovativ und zukunftsfähig präsentier
 en wollen\, implementieren weltweit eine Vielzahl neuer Technologien\, um 
 das Stadtleben effizienter\, komfortabler und nachhaltiger zu gestalten. D
 iese Entwicklung\, die oft als "Smart City" bezeichnet wird\, hat das Pote
 nzial\, lokale Verwaltung zu verändern\, da die Städte eine Vielzahl von
  Daten sammeln\, um fundierter Entscheidungen zu treffen. Viele Städte ar
 beiten im Bestreben eine “smarte Stadt” zu werden auch mit privaten Un
 ternehmen zusammen\, in der Hoffnung\, durch externe Expertise den Mangel 
 an internem Fachwissen auszugleichen. Gleichzeitig verändern digitale Pla
 ttformen die Raumnutzung in der Stadt. Die Digitalisierung großer Teile d
 er städtischen Infrastruktur wirft neue Fragen der Privatsphäre\, der Da
 tenverwaltung und des (digitalen) Designs auf\, die bisher nicht Teil der 
 Stadtplanung\, der Architektur und der lokalen Verwaltung waren: Wie kann
  Technologie das Leben von Stadtbewohnern sinnvoll verbessern?Welche Veran
 twortung hat eine “Smart City” gegenüber ihren Bewohnern? Wer sind di
 e “City Maker” des digitalen Zeitalters?\n\n&nbsp\;\nCITY MAKING IM DI
 GITALEN ZEITALTER\nDonnerstag\, 21. Februar 2019 | 19:00 - 20:30 Uhr | Ein
 lass 18:30 Uhr\nHIIG | Französische Straße 9 | 10117 Berlin\n&nbsp\;\n\n
 Die Veranstaltung findet auf Englisch statt. Bitte melden Sie sich vorab 
 über das untenstehende Anmeldeformular an.\n\n&nbsp\;\n\nDer Moderator Be
 njamin Knödler diskutiert u.a. mit: \n\nMarleen Stikker\, Mitbegründerin
  der WAAG Society\, einem in Amsterdam ansässigen interdisziplinären\, g
 emeinnützigen Medienlabor und Forschungsinstitut. In ihrer Arbeit zielt s
 ie darauf ab\, soziale Werte in den Mittelpunkt der Technologie zu stellen
 \, indem sie offene\, faire und integrative Innovationen schafft und förd
 ert. Seit Anfang der 90er Jahre ist sie im Bereich Internet und digitaler 
 Aktivismus tätig.\n\nBeate Albert\, seit 15 Jahren bei Berlin Partner t
 ätig. Vor ihrer jetzigen Position als Leiterin der Smart City Unit war si
 e als Projektmanagerin in den Bereichen Standortmarketing\, Auslandswirtsc
 haftsförderung und Smart City Development tätig. Sie hat einen Universit
 ätsabschluss der Humboldt-Universität in Übersetzungswissenschaft.\n\n&
 nbsp\;\n\nIn das Programm führen Christian Grauvogel (HIIG) und Prof. Eli
 zabeth Sikiaridi und Prof. Frans Vogelaar (Hybrid Space Lab) ein. \n\nDie 
 Veranstaltung ist Teil der Reihe digital macht stadt\, diese zielt darauf 
 ab die Lücke zwischen Daten- und Privatsphäreexperten sowie Urbanisten\,
  Architekten\, City Makern\, Zivilgesellschaft und Verwaltung zu schließe
 n. Es soll ein transdisziplinärer Dialog ermöglicht werden\, der die lau
 fenden Entwicklungen an der Schnittstelle von Städten und digitaler Techn
 ologie untersucht: Die Zukunft der urbanen Mobilität und des öffentliche
 n Raums\, neue Formen der Raumnutzung in der digitalen Gesellschaft\, Krei
 slaufwirtschaft\, sowie resiliente und gesunde Städte.\n\nDie Reihe “di
 gital macht stadt” ist eine Kooperation zwischen dem Alexander von Humbo
 ldt Institut für Internet und Gesellschaft (HIIG) und dem Hybrid Space La
 b. Die Veranstaltung "City Making im digitalen Zeitalter" wird von der Bot
 schaft des Königreichs der Niederlande in Berlin unterstützt.\n\n&nbsp\;
ATTACH;FMTTYPE=image/jpeg:https://www.hiig.de/wp-content/uploads/2017/03/d
 igital-macht-stadt-Banner_kl.png
CATEGORIES:Netzwerken
LOCATION:Humboldt Institut für Internet und Gesellschaft\, Französische S
 traße 9\, Berlin\, 10117\, Deutschland
X-APPLE-STRUCTURED-LOCATION;VALUE=URI;X-ADDRESS=Französische Straße 9\, B
 erlin\, 10117\, Deutschland;X-APPLE-RADIUS=100;X-TITLE=Humboldt Institut f
 ür Internet und Gesellschaft:geo:0,0
END:VEVENT
BEGIN:VTIMEZONE
TZID:Europe/Berlin
X-LIC-LOCATION:Europe/Berlin
BEGIN:STANDARD
DTSTART:20181028T020000
TZOFFSETFROM:+0200
TZOFFSETTO:+0100
TZNAME:CET
END:STANDARD
END:VTIMEZONE
END:VCALENDAR