BEGIN:VCALENDAR
VERSION:2.0
PRODID:-//wp-events-plugin.com//7.2.3.1//EN
TZID:Europe/Berlin
X-WR-TIMEZONE:Europe/Berlin
BEGIN:VEVENT
UID:1102@hiig.de
DTSTART:20230526T080000Z
DTEND:20230526T083000Z
DTSTAMP:20240119T124234Z
URL:https://www.hiig.de/events/charla-de-inspiracion-mujeres-que-inspiran-
 en-la-tecnologia/
SUMMARY:Charla de inspiración en México: Mujeres* que inspiran en la tecn
 ología
DESCRIPTION:Este evento presenta el mundo laboral de una mujer en el sector
  tecnológico.
ATTACH;FMTTYPE=image/jpeg:https://www.hiig.de/wp-content/uploads/2023/04/W
 ebsite-DigSal-Maerz-–-7.png
LOCATION:Ministry of Economy\, C. Pachuca 189\, Colonia Condesa\, Cuauhtém
 oc\, Ciudad de Mexico\, 06140\, Mexiko
X-APPLE-STRUCTURED-LOCATION;VALUE=URI;X-ADDRESS=C. Pachuca 189\, Colonia Co
 ndesa\, Cuauhtémoc\, Ciudad de Mexico\, 06140\, Mexiko;X-APPLE-RADIUS=100
 ;X-TITLE=Ministry of Economy:geo:0,0
END:VEVENT
END:VCALENDAR