BEGIN:VCALENDAR
VERSION:2.0
PRODID:-//wp-events-plugin.com//7.2.3.1//EN
TZID:Europe/Berlin
X-WR-TIMEZONE:Europe/Berlin
BEGIN:VEVENT
UID:373@hiig.de
DTSTART;TZID=Europe/Berlin;VALUE=DATE:20161117
DTEND;TZID=Europe/Berlin;VALUE=DATE:20161119
DTSTAMP:20231220T110956Z
URL:https://www.hiig.de/events/changing-the-picture-2016/
SUMMARY:CHANGING THE PICTURE 2016
DESCRIPTION:\n\nDie Film- und Fernsehbranche muss sich beständig dem wac
 hsenden Einsatz von digitalen Datenträgern und IT-Technologien stellen. D
 araufhin versuchen Produzenten\, IT-Experten und die Unterhaltungsindustri
 e den Wandel der Branche mitzugestalten und Visionen der Medientechnologi
 en aufzuzeigen. Wie verändert sich also das bewegt Bild im 21. Jahrhunder
 t? Welche Rolle spielen Vernetzung\, Virtual Reality und neueste Innovatio
 nen in der IT-Branche? Und inwiefern fordern neue Technologien modernes 
 Storytelling heraus?\nDie CHANGING THE PICTURE Technologiekonferenz wird 
 zum vierten Mal in der Nähe Berlins in den bekannten Babelsberg Studios i
 n Potsdam\, vom 17. bis 18. November\, stattfinden. Die Konferenz stellt 
 sich diesen neuen Herausforderungen und zeigt mit einem praktischen Ansat
 z\, Visionen und Trends der Medientechnologien auf.\nDas zweitägige Prog
 ramm stellt den Teilnehmern die neusten Use Cases vor und überzeugt mit 
 technologischer Expertise in der Produktion und Distribution von Inhalten 
 für TV\, Kino und Internet. Die diesjährige Veranstaltung fokussiert i
 nsbesondere darauf\, wie Technologien Storytelling beinflussen\, und ob S
 ocial Media neue Anbieter für Entertainment werden. Es wird darüber hina
 us um intelligenten Sound für interaktive Applikationen und die Grenzen 
 zwischen Film und VR gehen. Am zweiten Tag sollen praktische Tech Sessions
  einen tieferen Einblick in die verschiedenen Themen und Methoden geben.\n
 Dwerft\nDiese Herausforderungen zu beantworten\, versucht ebenfalls das F
 orschungsprojekt dwerft – linked film &amp\; tv services\, an dem das A
 lexander von Humboldt Institut für Internet und Gesellschaft (HIIG) betei
 ligt ist.  »dwerft« will in Babelsberg auf diese Herausforderungen mit
  einer offenen\, gemeinsamen Kerntechnologie «Linked Production Data» an
 tworten.\n\n\n\nVeranstaltungsseite besuchen\n\n\nProgramm Übersicht\n\n\
 n\nKosten\n\n\n\nEarly Bird Ticket (bis 21 Oktober)\n120\,00€\n\n\nStan
 dard Ticket\n150\,00€\n\n\n\nAnmeldung\nDie Anmeldung ist online über 
 die Veranstaltungsseite möglich.
ATTACH;FMTTYPE=image/jpeg:https://www.hiig.de/wp-content/uploads/2016/10/2
 016.png
CATEGORIES:Events vor 2018 ohne Titelbild,Themen im Fokus
LOCATION:fx.Center Babelsberg\, August-Bebel-Straße 26\, Potsdam\, 14482\,
  Deutschland
X-APPLE-STRUCTURED-LOCATION;VALUE=URI;X-ADDRESS=August-Bebel-Straße 26\, P
 otsdam\, 14482\, Deutschland;X-APPLE-RADIUS=100;X-TITLE=fx.Center Babelsbe
 rg:geo:0,0
END:VEVENT
BEGIN:VTIMEZONE
TZID:Europe/Berlin
X-LIC-LOCATION:Europe/Berlin
BEGIN:STANDARD
DTSTART:20161030T020000
TZOFFSETFROM:+0200
TZOFFSETTO:+0100
TZNAME:CET
END:STANDARD
END:VTIMEZONE
END:VCALENDAR