BEGIN:VCALENDAR
VERSION:2.0
PRODID:-//wp-events-plugin.com//7.2.3.1//EN
TZID:Europe/Berlin
X-WR-TIMEZONE:Europe/Berlin
BEGIN:VEVENT
UID:1314@hiig.de
DTSTART;TZID=Europe/Berlin:20240703T180000
DTEND;TZID=Europe/Berlin:20240703T200000
DTSTAMP:20240704T143430Z
URL:https://www.hiig.de/events/carola-westermeier-geld-als-digitale-techno
 logie/
SUMMARY:Carola Westermeier: Geld als digitale Technologie
DESCRIPTION:In dieser Ausgabe werden wir über die Evolution vom virtuellen
  Geld\, unseren Umgang mit ihm und über die Bedenken die er hinsichtlich 
 des Datenschutzes und der Marktdominanz aufwirft\, diskutieren.
ATTACH;FMTTYPE=image/jpeg:https://www.hiig.de/wp-content/uploads/2024/06/T
 V-Banner-–-Carola-Westermeier-–-.png
CATEGORIES:Redenreihe: Making sense of digital society
LOCATION:WZB | Wissenschaftszentrum Berlin für Sozialforschung\, Reichpiet
 schufer 50\, Berlin\, 10785\, Deutschland
X-APPLE-STRUCTURED-LOCATION;VALUE=URI;X-ADDRESS=Reichpietschufer 50\, Berli
 n\, 10785\, Deutschland;X-APPLE-RADIUS=100;X-TITLE=WZB | Wissenschaftszent
 rum Berlin für Sozialforschung:geo:0,0
END:VEVENT
BEGIN:VTIMEZONE
TZID:Europe/Berlin
X-LIC-LOCATION:Europe/Berlin
BEGIN:DAYLIGHT
DTSTART:20240331T030000
TZOFFSETFROM:+0100
TZOFFSETTO:+0200
TZNAME:CEST
END:DAYLIGHT
END:VTIMEZONE
END:VCALENDAR