BEGIN:VCALENDAR
VERSION:2.0
PRODID:-//wp-events-plugin.com//7.2.3.1//EN
TZID:Europe/Berlin
X-WR-TIMEZONE:Europe/Berlin
BEGIN:VEVENT
UID:872@hiig.de
DTSTART;TZID=Europe/Berlin:20210113T123000
DTEND;TZID=Europe/Berlin:20210113T140000
DTSTAMP:20220228T120934Z
URL:https://www.hiig.de/events/buchvorstellung-internet-und-gesellschaft-s
 chriften-des-alexander-von-humboldt-institut-fuer-internet-und-gesellschaf
 t/
SUMMARY:Staat und Wirtschaft - Daten und Geld | Präsentation vier aktuelle
 r Bücher aus der HIIG-Reihe "Internet und Gesellschaft"
DESCRIPTION:Einladung zur Buchvorstellung von vier aktuellen Neuerscheinung
 en.
ATTACH;FMTTYPE=image/jpeg:https://www.hiig.de/wp-content/uploads/2020/11/j
 essica-ruscello-OQSCtabGkSY-unsplash-scaled.jpg
CATEGORIES:Themen im Fokus
LOCATION:Zoom\, hiig.de\, Berlin\, Deutschland
X-APPLE-STRUCTURED-LOCATION;VALUE=URI;X-ADDRESS=hiig.de\, Berlin\, Deutschl
 and;X-APPLE-RADIUS=100;X-TITLE=Zoom:geo:0,0
END:VEVENT
BEGIN:VTIMEZONE
TZID:Europe/Berlin
X-LIC-LOCATION:Europe/Berlin
BEGIN:STANDARD
DTSTART:20201025T020000
TZOFFSETFROM:+0200
TZOFFSETTO:+0100
TZNAME:CET
END:STANDARD
END:VTIMEZONE
END:VCALENDAR