BEGIN:VCALENDAR
VERSION:2.0
PRODID:-//wp-events-plugin.com//7.2.3.1//EN
TZID:Europe/Berlin
X-WR-TIMEZONE:Europe/Berlin
BEGIN:VEVENT
UID:784@hiig.de
DTSTART;TZID=Europe/Berlin:20200318T183000
DTEND;TZID=Europe/Berlin:20200318T220000
DTSTAMP:20200331T133033Z
URL:https://www.hiig.de/events/book-launch-twentyforty/
SUMMARY:Cancelled: Book Launch: twentyforty - Utopias for a Digital Society
DESCRIPTION:We are pleased to celebrate the launch of our freshly printed b
 ook twentyforty – Utopias for a Digital Society. The book is an antholog
 y\, consisting out of thirteen visionary stories written by researchers\, 
 addressing the opportunities and challenges that digital technologies pres
 ent for society in the future of 2040.
ATTACH;FMTTYPE=image/jpeg:https://www.hiig.de/wp-content/uploads/2020/03/I
 MG_9475.jpg
CATEGORIES:Netzwerken
LOCATION:Humboldt Institut für Internet und Gesellschaft\, Französische S
 traße 9\, Berlin\, 10117\, Deutschland
X-APPLE-STRUCTURED-LOCATION;VALUE=URI;X-ADDRESS=Französische Straße 9\, B
 erlin\, 10117\, Deutschland;X-APPLE-RADIUS=100;X-TITLE=Humboldt Institut f
 ür Internet und Gesellschaft:geo:0,0
END:VEVENT
BEGIN:VTIMEZONE
TZID:Europe/Berlin
X-LIC-LOCATION:Europe/Berlin
BEGIN:STANDARD
DTSTART:20191027T020000
TZOFFSETFROM:+0200
TZOFFSETTO:+0100
TZNAME:CET
END:STANDARD
END:VTIMEZONE
END:VCALENDAR