BEGIN:VCALENDAR
VERSION:2.0
PRODID:-//wp-events-plugin.com//7.2.3.1//EN
TZID:Europe/Berlin
X-WR-TIMEZONE:Europe/Berlin
BEGIN:VEVENT
UID:375@hiig.de
DTSTART;TZID=Europe/Berlin:20161129T193000
DTEND;TZID=Europe/Berlin:20161129T213000
DTSTAMP:20231220T110955Z
URL:https://www.hiig.de/events/blockchain-for-lifesciences/
SUMMARY:Blockchain for Lifesciences
DESCRIPTION:"Science is about trust\, privacy and proof. So are the blockch
 ain and cryptography."\n\nBlockchain organizes digital assets decentralize
 d and distributed. It makes data immutable\, transparent and provable to t
 he outside – at the same time subject privacy can be assured.\n\nHIIG as
 sociated researcher Sönke Bartling is inviting to discuss visions on the 
 upcoming blockchain (r)evolutions in the field of science\, and knowledge 
 creation. One point of the discussion will be whether Blockchain could be
  a technical solution to the current reproducibility crisis in science (se
 e also the publication Blockchain for science and knowledge creation by S
 önke Bartling and Benedikt Fecher ).\n\nThere will be presentations and a
 n open mic for brainstorming. Please sign up for the event through meetup.
CATEGORIES:Events vor 2018 ohne Titelbild,Themen im Fokus
LOCATION:Humboldt Institut für Internet und Gesellschaft\, Französische S
 traße 9\, Berlin\, 10117\, Deutschland
X-APPLE-STRUCTURED-LOCATION;VALUE=URI;X-ADDRESS=Französische Straße 9\, B
 erlin\, 10117\, Deutschland;X-APPLE-RADIUS=100;X-TITLE=Humboldt Institut f
 ür Internet und Gesellschaft:geo:0,0
END:VEVENT
BEGIN:VTIMEZONE
TZID:Europe/Berlin
X-LIC-LOCATION:Europe/Berlin
BEGIN:STANDARD
DTSTART:20161030T020000
TZOFFSETFROM:+0200
TZOFFSETTO:+0100
TZNAME:CET
END:STANDARD
END:VTIMEZONE
END:VCALENDAR