BEGIN:VCALENDAR
VERSION:2.0
PRODID:-//wp-events-plugin.com//7.2.3.1//EN
TZID:Europe/Berlin
X-WR-TIMEZONE:Europe/Berlin
BEGIN:VEVENT
UID:318@hiig.de
DTSTART;TZID=Europe/Berlin:20160314T190000
DTEND;TZID=Europe/Berlin:20160314T203000
DTSTAMP:20231220T145624Z
URL:https://www.hiig.de/events/big-data-for-president/
SUMMARY:Big Data for President | Diskussion
DESCRIPTION:Zur 3. Veranstaltung der Vortragsreihe Big data: big power shif
 ts? beschäftigten wir uns mit den komplexen Bedeutungen und Auswirkungen 
 von Big Data für den öffentlichen Sektor. \n\n&nbsp\;\nBig data booms b
 ut not everywhere yet. Stemming from the military sector\, the main develo
 pments in big data take place in commercial marketing. But what about the 
 public sector: Do governments make use of new data and methods? Should the
 y? And does big data follow different rules when applied in government use
 ?\nBIG DATA FOR PRESIDENT\n14 March 2016 | 7 – 8.30 pm | Doors open 6.30
  pm\nEstonian Embassy in Berlin | Hildebrandstraße 5 | 10785 Berlin\n[pho
 tospace ids="26871\,26868\,26870\,26869\,26873\,26874\,26872\,26875\,26876
 \,26877\,26878\,26880\,26879\,26881\,26882\,26883\,26885\,26884\,26886"]\n
 We discussed with:\nSiim Sikkut\, national ICT policy adviser in the Gover
 nment Office of Estonia. He will give us an insight into how the governmen
 t of the country known as a European digital pioneer (‘E-stonia’) appr
 oaches the possible gains and pitfalls of big data for government.\nDirk M
 ahnkopf\, specialist for ‘Big Data and Analytics’ at Cisco\, will shar
 e his expertise from inside a company that explores the potential of big d
 ata for government use in many countries.\nJeanette Hofmann\, director of 
 the Alexander von Humboldt Institute for Internet and Society\, and who le
 ads a project about the regulation of big data\, will share her thoughts o
 n drivers and obstacles for big data in the public sector and lead the con
 versation.\n\nProgramme\n\n\n\n18:30\nRegistration\n\n\n19:00\nWelcome add
 ress by Kaja Tael\, Estonia's ambassador to Germany\nIntroductory words by
  David Deissner\, Vodafone InstituteModeration of the event: Jeanette Hofm
 ann\, director of the Alexander von Humboldt Institute for Internet and So
 ciety\n\n\n19:10\nPotential of Big Data within the public sector\nDirk Mah
 nkopf\, specialist for ‘Big Data and Analytics’ at Cisco\n\n\n19:30\ne
 -Estonia: Building a Data-Driven Government\nSiim Sikkut\, national ICT po
 licy adviser in the Government Office of Estonia\n\n\n19:50\nDiscussion wi
 th panelists and the public\n\n\n20:30\nStand-up reception\n\n\n\nA keynot
 e dialogue in the series Big data: big power shifts?\nThe event is the k
 eynote dialogue for the series Big data: big power shifts?\, that the HII
 G conducts in cooperation with the Vodafone Institute for Society and Comm
 unications.\n\n​Although big data has been a major issue in the internet
 -related public debate\, it is still unclear what impact big data has on 
 societies today. Mayer-Schönberger &amp\; Cukier claim that big data is 
 a “revolution that will transform how we live\, work\, and think”. But
  whereas revolutions imply a profound shift in power relations\, there is 
 little evidence and debate about whether and\, if so\, how big data affect
 s power relations.\n\nThe lecture series will explore this topic with spea
 kers from different backgrounds and be backed by a special issue of the 
 Internet Policy Review.\nThe event series Big data: big power shifts? is
  curated by Dr. Lena Ulbricht\, WZB Research Fellow.\n\n\n&nbsp\;\n\n&nb
 sp\;
ATTACH;FMTTYPE=image/jpeg:https://www.hiig.de/wp-content/uploads/2016/02/b
 anner-08.png
CATEGORIES:Events vor 2018 ohne Titelbild,Exploring Digital Spheres
LOCATION:Botschaft der Republik Estland in Berlin\, Hildebrandstraße 5\, B
 erlin\, 10785\, Deutschland
X-APPLE-STRUCTURED-LOCATION;VALUE=URI;X-ADDRESS=Hildebrandstraße 5\, Berli
 n\, 10785\, Deutschland;X-APPLE-RADIUS=100;X-TITLE=Botschaft der Republik 
 Estland in Berlin:geo:0,0
END:VEVENT
BEGIN:VTIMEZONE
TZID:Europe/Berlin
X-LIC-LOCATION:Europe/Berlin
BEGIN:STANDARD
DTSTART:20151025T020000
TZOFFSETFROM:+0200
TZOFFSETTO:+0100
TZNAME:CET
END:STANDARD
END:VTIMEZONE
END:VCALENDAR