BEGIN:VCALENDAR
VERSION:2.0
PRODID:-//wp-events-plugin.com//7.2.3.1//EN
TZID:Europe/Berlin
X-WR-TIMEZONE:Europe/Berlin
BEGIN:VEVENT
UID:16@hiig.de
DTSTART;TZID=Europe/Berlin:20130613T190000
DTEND;TZID=Europe/Berlin:20130613T210000
DTSTAMP:20130523T062008Z
URL:https://www.hiig.de/events/berliner-wirtschaftsgesprache-spaces-and-th
 ings-informatisierung-von-stadt-und-raum/
SUMMARY:Berliner Wirtschaftsgespräche: "Spaces and things"
DESCRIPTION:Das Alexander von Humboldt Institut für Internet und Gesellsch
 aft beschäftigt sich im Rahmen des Forschungsprojektes Data and the City 
 u.a. mit der Frage\, wie die Möglichkeiten des mobilen Internets das Verh
 alten der Menschen in einer Stadt sowie die Wahrnehmung des öffentlichen 
 Raums verändern wird. Aber auch der Raum selbst ist einem Veränderungspr
 ozess unterworfen. Es treten neue Geschäftsmodelle in Erscheinung (car sh
 aring)\, intelligente Navigationssysteme\, Augmented Reality\, Geospiele\,
  aber auch neue Umgangsformen der Menschen untereinander\, die erst durch 
 die permanente Präsenz des Internets (öffentliches WLAN\, UMTS\, LTE).\n
 \nWas bedeutet es für die Zukunft\, wenn Raum und Netz miteinander versch
 melzen? Wie sieht der Annäherungsprozess aus? Wird er durch die Technik g
 esteuert\, oder durch den Menschen\, der sich neue "Technik-Räume" durch 
 den Geschäfts- und Gestaltungssinn erschließt?\nProgramm:\nBegrüßung\n
 \n	Marcel Tilmann Berliner Wirtschaftsgespräche e. V.\n\nVorstellung des 
 Instituts\n\n	Prof. Dr. Thomas Schildhauer HIIG\, UdK\n\nVortrag\n\n	Dr. F
 lorian Fischer Projektleiter Data and the City\, HIIG\n\nPodium\n\n	Nadine
  Schüttel Referentin Netzpolitik in der Senatskanzlei\n	Dr. Eva Flecken M
 edienanstalt Berlin-Brandenburg\n	Andreas Leo Pressesprecher Car2go\n	Dr. 
 Sebastian Kurme (angefragt) Nokia\, Berlin\, Unternehmenskommunikation\n\n
 Moderation\n\n	Prof. Dr. Thomas Schildhauer\n\nWeitere Informationen zur V
 eranstaltung und die Möglichkeit der Registrierung finden Sie auf den Sei
 ten der Berliner Wirtschaftsgespräche e.V..
LOCATION:Ehemalige Institutsräume des HIIG | Raum E27\, Bebelplatz 1\, Ber
 lin\, 10117\, Deutschland
X-APPLE-STRUCTURED-LOCATION;VALUE=URI;X-ADDRESS=Bebelplatz 1\, Berlin\, 101
 17\, Deutschland;X-APPLE-RADIUS=100;X-TITLE=Ehemalige Institutsräume des 
 HIIG | Raum E27:geo:0,0
END:VEVENT
BEGIN:VTIMEZONE
TZID:Europe/Berlin
X-LIC-LOCATION:Europe/Berlin
BEGIN:DAYLIGHT
DTSTART:20130331T030000
TZOFFSETFROM:+0100
TZOFFSETTO:+0200
TZNAME:CEST
END:DAYLIGHT
END:VTIMEZONE
END:VCALENDAR