BEGIN:VCALENDAR
VERSION:2.0
PRODID:-//wp-events-plugin.com//7.2.3.1//EN
TZID:Europe/Berlin
X-WR-TIMEZONE:Europe/Berlin
BEGIN:VEVENT
UID:1471@hiig.de
DTSTART;TZID=Europe/Berlin:20251103T153000
DTEND;TZID=Europe/Berlin:20251103T170000
DTSTAMP:20251010T083211Z
URL:https://www.hiig.de/events/automatisierte-content-moderation-macht-rec
 ht-und-die-rolle-menschlicher-entscheidungen/
SUMMARY:Automatisierte Content Moderation – Macht\, Recht und die Rolle m
 enschlicher Entscheidungen
DESCRIPTION:Abschlussveranstaltung zur Fallstudie zu (teil-)automatisierten
  Entscheidungsprozessen im Zusammenhang von Content Moderation.
ATTACH;FMTTYPE=image/jpeg:https://www.hiig.de/wp-content/uploads/2025/10/F
 eatured-image-–-project-–-20.png
LOCATION:Humboldt Institut für Internet und Gesellschaft\, Französische S
 traße 9\, Berlin\, 10117\, Deutschland
X-APPLE-STRUCTURED-LOCATION;VALUE=URI;X-ADDRESS=Französische Straße 9\, B
 erlin\, 10117\, Deutschland;X-APPLE-RADIUS=100;X-TITLE=Humboldt Institut f
 ür Internet und Gesellschaft:geo:0,0
END:VEVENT
BEGIN:VTIMEZONE
TZID:Europe/Berlin
X-LIC-LOCATION:Europe/Berlin
BEGIN:STANDARD
DTSTART:20251026T020000
TZOFFSETFROM:+0200
TZOFFSETTO:+0100
TZNAME:CET
END:STANDARD
END:VTIMEZONE
END:VCALENDAR